BEGIN:VCALENDAR
VERSION:2.0
PRODID:-//The Key to Paradise – Discover Marco Like a Local - ECPv6.15.18//NONSGML v1.0//EN
CALSCALE:GREGORIAN
METHOD:PUBLISH
X-WR-CALNAME:The Key to Paradise – Discover Marco Like a Local
X-ORIGINAL-URL:https://visitmarcoislander.com
X-WR-CALDESC:Events for The Key to Paradise – Discover Marco Like a Local
REFRESH-INTERVAL;VALUE=DURATION:PT1H
X-Robots-Tag:noindex
X-PUBLISHED-TTL:PT1H
BEGIN:VTIMEZONE
TZID:UTC
BEGIN:STANDARD
TZOFFSETFROM:+0000
TZOFFSETTO:+0000
TZNAME:UTC
DTSTART:20250101T000000
END:STANDARD
END:VTIMEZONE
BEGIN:VEVENT
DTSTART;TZID=UTC:20260419T180000
DTEND;TZID=UTC:20260419T210000
DTSTAMP:20260419T142850
CREATED:20260224T235025Z
LAST-MODIFIED:20260224T235824Z
UID:10009993-1776621600-1776632400@visitmarcoislander.com
SUMMARY:Live Music at Capri Fish House
DESCRIPTION:Daily live music: \nSunday – Trace Gause from 12 – 3 and Fred Thornton from 6-9\n\nMonday – Fred Thornton 6-9\n\nTuesday – Michael Nichols 5-8\n\nWednesday – Frank Carroll  6 – 9\n\nThursday – Fred Thornton 6 – 9\n\nFriday – Frank Carroll 6 – 9\n\nSaturday – Trace Gause 6 – 9
URL:https://visitmarcoislander.com/event/live-music-at-capri-fish-house/2026-04-19/
LOCATION:Capri Fish House\, 203 Capri Blvd\, Naples\, FL\, 34113\, United States
CATEGORIES:Restaurants
ATTACH;FMTTYPE=image/webp:https://visitmarcoislander.com/wp-content/uploads/2026/02/Capri-Live-Music.webp
END:VEVENT
BEGIN:VEVENT
DTSTART;TZID=UTC:20260420T180000
DTEND;TZID=UTC:20260420T210000
DTSTAMP:20260419T142850
CREATED:20260224T235025Z
LAST-MODIFIED:20260224T235824Z
UID:10009994-1776708000-1776718800@visitmarcoislander.com
SUMMARY:Live Music at Capri Fish House
DESCRIPTION:Daily live music: \nSunday – Trace Gause from 12 – 3 and Fred Thornton from 6-9\n\nMonday – Fred Thornton 6-9\n\nTuesday – Michael Nichols 5-8\n\nWednesday – Frank Carroll  6 – 9\n\nThursday – Fred Thornton 6 – 9\n\nFriday – Frank Carroll 6 – 9\n\nSaturday – Trace Gause 6 – 9
URL:https://visitmarcoislander.com/event/live-music-at-capri-fish-house/2026-04-20/
LOCATION:Capri Fish House\, 203 Capri Blvd\, Naples\, FL\, 34113\, United States
CATEGORIES:Restaurants
ATTACH;FMTTYPE=image/webp:https://visitmarcoislander.com/wp-content/uploads/2026/02/Capri-Live-Music.webp
END:VEVENT
BEGIN:VEVENT
DTSTART;TZID=UTC:20260422T180000
DTEND;TZID=UTC:20260422T210000
DTSTAMP:20260419T142850
CREATED:20260224T235025Z
LAST-MODIFIED:20260224T235824Z
UID:10009995-1776880800-1776891600@visitmarcoislander.com
SUMMARY:Live Music at Capri Fish House
DESCRIPTION:Daily live music: \nSunday – Trace Gause from 12 – 3 and Fred Thornton from 6-9\n\nMonday – Fred Thornton 6-9\n\nTuesday – Michael Nichols 5-8\n\nWednesday – Frank Carroll  6 – 9\n\nThursday – Fred Thornton 6 – 9\n\nFriday – Frank Carroll 6 – 9\n\nSaturday – Trace Gause 6 – 9
URL:https://visitmarcoislander.com/event/live-music-at-capri-fish-house/2026-04-22/
LOCATION:Capri Fish House\, 203 Capri Blvd\, Naples\, FL\, 34113\, United States
CATEGORIES:Restaurants
ATTACH;FMTTYPE=image/webp:https://visitmarcoislander.com/wp-content/uploads/2026/02/Capri-Live-Music.webp
END:VEVENT
BEGIN:VEVENT
DTSTART;TZID=UTC:20260423T180000
DTEND;TZID=UTC:20260423T210000
DTSTAMP:20260419T142850
CREATED:20260224T235025Z
LAST-MODIFIED:20260224T235824Z
UID:10009996-1776967200-1776978000@visitmarcoislander.com
SUMMARY:Live Music at Capri Fish House
DESCRIPTION:Daily live music: \nSunday – Trace Gause from 12 – 3 and Fred Thornton from 6-9\n\nMonday – Fred Thornton 6-9\n\nTuesday – Michael Nichols 5-8\n\nWednesday – Frank Carroll  6 – 9\n\nThursday – Fred Thornton 6 – 9\n\nFriday – Frank Carroll 6 – 9\n\nSaturday – Trace Gause 6 – 9
URL:https://visitmarcoislander.com/event/live-music-at-capri-fish-house/2026-04-23/
LOCATION:Capri Fish House\, 203 Capri Blvd\, Naples\, FL\, 34113\, United States
CATEGORIES:Restaurants
ATTACH;FMTTYPE=image/webp:https://visitmarcoislander.com/wp-content/uploads/2026/02/Capri-Live-Music.webp
END:VEVENT
BEGIN:VEVENT
DTSTART;TZID=UTC:20260424T180000
DTEND;TZID=UTC:20260424T210000
DTSTAMP:20260419T142850
CREATED:20260224T235025Z
LAST-MODIFIED:20260224T235824Z
UID:10009997-1777053600-1777064400@visitmarcoislander.com
SUMMARY:Live Music at Capri Fish House
DESCRIPTION:Daily live music: \nSunday – Trace Gause from 12 – 3 and Fred Thornton from 6-9\n\nMonday – Fred Thornton 6-9\n\nTuesday – Michael Nichols 5-8\n\nWednesday – Frank Carroll  6 – 9\n\nThursday – Fred Thornton 6 – 9\n\nFriday – Frank Carroll 6 – 9\n\nSaturday – Trace Gause 6 – 9
URL:https://visitmarcoislander.com/event/live-music-at-capri-fish-house/2026-04-24/
LOCATION:Capri Fish House\, 203 Capri Blvd\, Naples\, FL\, 34113\, United States
CATEGORIES:Restaurants
ATTACH;FMTTYPE=image/webp:https://visitmarcoislander.com/wp-content/uploads/2026/02/Capri-Live-Music.webp
END:VEVENT
BEGIN:VEVENT
DTSTART;TZID=UTC:20260425T180000
DTEND;TZID=UTC:20260425T210000
DTSTAMP:20260419T142850
CREATED:20260224T235025Z
LAST-MODIFIED:20260224T235824Z
UID:10009998-1777140000-1777150800@visitmarcoislander.com
SUMMARY:Live Music at Capri Fish House
DESCRIPTION:Daily live music: \nSunday – Trace Gause from 12 – 3 and Fred Thornton from 6-9\n\nMonday – Fred Thornton 6-9\n\nTuesday – Michael Nichols 5-8\n\nWednesday – Frank Carroll  6 – 9\n\nThursday – Fred Thornton 6 – 9\n\nFriday – Frank Carroll 6 – 9\n\nSaturday – Trace Gause 6 – 9
URL:https://visitmarcoislander.com/event/live-music-at-capri-fish-house/2026-04-25/
LOCATION:Capri Fish House\, 203 Capri Blvd\, Naples\, FL\, 34113\, United States
CATEGORIES:Restaurants
ATTACH;FMTTYPE=image/webp:https://visitmarcoislander.com/wp-content/uploads/2026/02/Capri-Live-Music.webp
END:VEVENT
BEGIN:VEVENT
DTSTART;TZID=UTC:20260426T180000
DTEND;TZID=UTC:20260426T210000
DTSTAMP:20260419T142850
CREATED:20260224T235025Z
LAST-MODIFIED:20260224T235824Z
UID:10009999-1777226400-1777237200@visitmarcoislander.com
SUMMARY:Live Music at Capri Fish House
DESCRIPTION:Daily live music: \nSunday – Trace Gause from 12 – 3 and Fred Thornton from 6-9\n\nMonday – Fred Thornton 6-9\n\nTuesday – Michael Nichols 5-8\n\nWednesday – Frank Carroll  6 – 9\n\nThursday – Fred Thornton 6 – 9\n\nFriday – Frank Carroll 6 – 9\n\nSaturday – Trace Gause 6 – 9
URL:https://visitmarcoislander.com/event/live-music-at-capri-fish-house/2026-04-26/
LOCATION:Capri Fish House\, 203 Capri Blvd\, Naples\, FL\, 34113\, United States
CATEGORIES:Restaurants
ATTACH;FMTTYPE=image/webp:https://visitmarcoislander.com/wp-content/uploads/2026/02/Capri-Live-Music.webp
END:VEVENT
BEGIN:VEVENT
DTSTART;TZID=UTC:20260427T180000
DTEND;TZID=UTC:20260427T210000
DTSTAMP:20260419T142850
CREATED:20260224T235025Z
LAST-MODIFIED:20260224T235824Z
UID:10010000-1777312800-1777323600@visitmarcoislander.com
SUMMARY:Live Music at Capri Fish House
DESCRIPTION:Daily live music: \nSunday – Trace Gause from 12 – 3 and Fred Thornton from 6-9\n\nMonday – Fred Thornton 6-9\n\nTuesday – Michael Nichols 5-8\n\nWednesday – Frank Carroll  6 – 9\n\nThursday – Fred Thornton 6 – 9\n\nFriday – Frank Carroll 6 – 9\n\nSaturday – Trace Gause 6 – 9
URL:https://visitmarcoislander.com/event/live-music-at-capri-fish-house/2026-04-27/
LOCATION:Capri Fish House\, 203 Capri Blvd\, Naples\, FL\, 34113\, United States
CATEGORIES:Restaurants
ATTACH;FMTTYPE=image/webp:https://visitmarcoislander.com/wp-content/uploads/2026/02/Capri-Live-Music.webp
END:VEVENT
BEGIN:VEVENT
DTSTART;TZID=UTC:20260429T180000
DTEND;TZID=UTC:20260429T210000
DTSTAMP:20260419T142850
CREATED:20260224T235025Z
LAST-MODIFIED:20260224T235824Z
UID:10010001-1777485600-1777496400@visitmarcoislander.com
SUMMARY:Live Music at Capri Fish House
DESCRIPTION:Daily live music: \nSunday – Trace Gause from 12 – 3 and Fred Thornton from 6-9\n\nMonday – Fred Thornton 6-9\n\nTuesday – Michael Nichols 5-8\n\nWednesday – Frank Carroll  6 – 9\n\nThursday – Fred Thornton 6 – 9\n\nFriday – Frank Carroll 6 – 9\n\nSaturday – Trace Gause 6 – 9
URL:https://visitmarcoislander.com/event/live-music-at-capri-fish-house/2026-04-29/
LOCATION:Capri Fish House\, 203 Capri Blvd\, Naples\, FL\, 34113\, United States
CATEGORIES:Restaurants
ATTACH;FMTTYPE=image/webp:https://visitmarcoislander.com/wp-content/uploads/2026/02/Capri-Live-Music.webp
END:VEVENT
BEGIN:VEVENT
DTSTART;TZID=UTC:20260430T180000
DTEND;TZID=UTC:20260430T210000
DTSTAMP:20260419T142850
CREATED:20260224T235025Z
LAST-MODIFIED:20260224T235824Z
UID:10010002-1777572000-1777582800@visitmarcoislander.com
SUMMARY:Live Music at Capri Fish House
DESCRIPTION:Daily live music: \nSunday – Trace Gause from 12 – 3 and Fred Thornton from 6-9\n\nMonday – Fred Thornton 6-9\n\nTuesday – Michael Nichols 5-8\n\nWednesday – Frank Carroll  6 – 9\n\nThursday – Fred Thornton 6 – 9\n\nFriday – Frank Carroll 6 – 9\n\nSaturday – Trace Gause 6 – 9
URL:https://visitmarcoislander.com/event/live-music-at-capri-fish-house/2026-04-30/
LOCATION:Capri Fish House\, 203 Capri Blvd\, Naples\, FL\, 34113\, United States
CATEGORIES:Restaurants
ATTACH;FMTTYPE=image/webp:https://visitmarcoislander.com/wp-content/uploads/2026/02/Capri-Live-Music.webp
END:VEVENT
BEGIN:VEVENT
DTSTART;TZID=UTC:20260501T180000
DTEND;TZID=UTC:20260501T210000
DTSTAMP:20260419T142850
CREATED:20260224T235025Z
LAST-MODIFIED:20260224T235824Z
UID:10010003-1777658400-1777669200@visitmarcoislander.com
SUMMARY:Live Music at Capri Fish House
DESCRIPTION:Daily live music: \nSunday – Trace Gause from 12 – 3 and Fred Thornton from 6-9\n\nMonday – Fred Thornton 6-9\n\nTuesday – Michael Nichols 5-8\n\nWednesday – Frank Carroll  6 – 9\n\nThursday – Fred Thornton 6 – 9\n\nFriday – Frank Carroll 6 – 9\n\nSaturday – Trace Gause 6 – 9
URL:https://visitmarcoislander.com/event/live-music-at-capri-fish-house/2026-05-01/
LOCATION:Capri Fish House\, 203 Capri Blvd\, Naples\, FL\, 34113\, United States
CATEGORIES:Restaurants
ATTACH;FMTTYPE=image/webp:https://visitmarcoislander.com/wp-content/uploads/2026/02/Capri-Live-Music.webp
END:VEVENT
BEGIN:VEVENT
DTSTART;TZID=UTC:20260502T180000
DTEND;TZID=UTC:20260502T210000
DTSTAMP:20260419T142850
CREATED:20260224T235025Z
LAST-MODIFIED:20260224T235824Z
UID:10010004-1777744800-1777755600@visitmarcoislander.com
SUMMARY:Live Music at Capri Fish House
DESCRIPTION:Daily live music: \nSunday – Trace Gause from 12 – 3 and Fred Thornton from 6-9\n\nMonday – Fred Thornton 6-9\n\nTuesday – Michael Nichols 5-8\n\nWednesday – Frank Carroll  6 – 9\n\nThursday – Fred Thornton 6 – 9\n\nFriday – Frank Carroll 6 – 9\n\nSaturday – Trace Gause 6 – 9
URL:https://visitmarcoislander.com/event/live-music-at-capri-fish-house/2026-05-02/
LOCATION:Capri Fish House\, 203 Capri Blvd\, Naples\, FL\, 34113\, United States
CATEGORIES:Restaurants
ATTACH;FMTTYPE=image/webp:https://visitmarcoislander.com/wp-content/uploads/2026/02/Capri-Live-Music.webp
END:VEVENT
BEGIN:VEVENT
DTSTART;TZID=UTC:20260503T180000
DTEND;TZID=UTC:20260503T210000
DTSTAMP:20260419T142850
CREATED:20260224T235025Z
LAST-MODIFIED:20260224T235824Z
UID:10010005-1777831200-1777842000@visitmarcoislander.com
SUMMARY:Live Music at Capri Fish House
DESCRIPTION:Daily live music: \nSunday – Trace Gause from 12 – 3 and Fred Thornton from 6-9\n\nMonday – Fred Thornton 6-9\n\nTuesday – Michael Nichols 5-8\n\nWednesday – Frank Carroll  6 – 9\n\nThursday – Fred Thornton 6 – 9\n\nFriday – Frank Carroll 6 – 9\n\nSaturday – Trace Gause 6 – 9
URL:https://visitmarcoislander.com/event/live-music-at-capri-fish-house/2026-05-03/
LOCATION:Capri Fish House\, 203 Capri Blvd\, Naples\, FL\, 34113\, United States
CATEGORIES:Restaurants
ATTACH;FMTTYPE=image/webp:https://visitmarcoislander.com/wp-content/uploads/2026/02/Capri-Live-Music.webp
END:VEVENT
BEGIN:VEVENT
DTSTART;TZID=UTC:20260504T180000
DTEND;TZID=UTC:20260504T210000
DTSTAMP:20260419T142850
CREATED:20260224T235025Z
LAST-MODIFIED:20260224T235824Z
UID:10010006-1777917600-1777928400@visitmarcoislander.com
SUMMARY:Live Music at Capri Fish House
DESCRIPTION:Daily live music: \nSunday – Trace Gause from 12 – 3 and Fred Thornton from 6-9\n\nMonday – Fred Thornton 6-9\n\nTuesday – Michael Nichols 5-8\n\nWednesday – Frank Carroll  6 – 9\n\nThursday – Fred Thornton 6 – 9\n\nFriday – Frank Carroll 6 – 9\n\nSaturday – Trace Gause 6 – 9
URL:https://visitmarcoislander.com/event/live-music-at-capri-fish-house/2026-05-04/
LOCATION:Capri Fish House\, 203 Capri Blvd\, Naples\, FL\, 34113\, United States
CATEGORIES:Restaurants
ATTACH;FMTTYPE=image/webp:https://visitmarcoislander.com/wp-content/uploads/2026/02/Capri-Live-Music.webp
END:VEVENT
BEGIN:VEVENT
DTSTART;TZID=UTC:20260506T180000
DTEND;TZID=UTC:20260506T210000
DTSTAMP:20260419T142850
CREATED:20260224T235025Z
LAST-MODIFIED:20260224T235824Z
UID:10010007-1778090400-1778101200@visitmarcoislander.com
SUMMARY:Live Music at Capri Fish House
DESCRIPTION:Daily live music: \nSunday – Trace Gause from 12 – 3 and Fred Thornton from 6-9\n\nMonday – Fred Thornton 6-9\n\nTuesday – Michael Nichols 5-8\n\nWednesday – Frank Carroll  6 – 9\n\nThursday – Fred Thornton 6 – 9\n\nFriday – Frank Carroll 6 – 9\n\nSaturday – Trace Gause 6 – 9
URL:https://visitmarcoislander.com/event/live-music-at-capri-fish-house/2026-05-06/
LOCATION:Capri Fish House\, 203 Capri Blvd\, Naples\, FL\, 34113\, United States
CATEGORIES:Restaurants
ATTACH;FMTTYPE=image/webp:https://visitmarcoislander.com/wp-content/uploads/2026/02/Capri-Live-Music.webp
END:VEVENT
BEGIN:VEVENT
DTSTART;TZID=UTC:20260507T180000
DTEND;TZID=UTC:20260507T210000
DTSTAMP:20260419T142850
CREATED:20260224T235025Z
LAST-MODIFIED:20260224T235824Z
UID:10010008-1778176800-1778187600@visitmarcoislander.com
SUMMARY:Live Music at Capri Fish House
DESCRIPTION:Daily live music: \nSunday – Trace Gause from 12 – 3 and Fred Thornton from 6-9\n\nMonday – Fred Thornton 6-9\n\nTuesday – Michael Nichols 5-8\n\nWednesday – Frank Carroll  6 – 9\n\nThursday – Fred Thornton 6 – 9\n\nFriday – Frank Carroll 6 – 9\n\nSaturday – Trace Gause 6 – 9
URL:https://visitmarcoislander.com/event/live-music-at-capri-fish-house/2026-05-07/
LOCATION:Capri Fish House\, 203 Capri Blvd\, Naples\, FL\, 34113\, United States
CATEGORIES:Restaurants
ATTACH;FMTTYPE=image/webp:https://visitmarcoislander.com/wp-content/uploads/2026/02/Capri-Live-Music.webp
END:VEVENT
BEGIN:VEVENT
DTSTART;TZID=UTC:20260508T180000
DTEND;TZID=UTC:20260508T210000
DTSTAMP:20260419T142850
CREATED:20260224T235025Z
LAST-MODIFIED:20260224T235824Z
UID:10010009-1778263200-1778274000@visitmarcoislander.com
SUMMARY:Live Music at Capri Fish House
DESCRIPTION:Daily live music: \nSunday – Trace Gause from 12 – 3 and Fred Thornton from 6-9\n\nMonday – Fred Thornton 6-9\n\nTuesday – Michael Nichols 5-8\n\nWednesday – Frank Carroll  6 – 9\n\nThursday – Fred Thornton 6 – 9\n\nFriday – Frank Carroll 6 – 9\n\nSaturday – Trace Gause 6 – 9
URL:https://visitmarcoislander.com/event/live-music-at-capri-fish-house/2026-05-08/
LOCATION:Capri Fish House\, 203 Capri Blvd\, Naples\, FL\, 34113\, United States
CATEGORIES:Restaurants
ATTACH;FMTTYPE=image/webp:https://visitmarcoislander.com/wp-content/uploads/2026/02/Capri-Live-Music.webp
END:VEVENT
BEGIN:VEVENT
DTSTART;TZID=UTC:20260509T180000
DTEND;TZID=UTC:20260509T210000
DTSTAMP:20260419T142850
CREATED:20260224T235025Z
LAST-MODIFIED:20260224T235824Z
UID:10010010-1778349600-1778360400@visitmarcoislander.com
SUMMARY:Live Music at Capri Fish House
DESCRIPTION:Daily live music: \nSunday – Trace Gause from 12 – 3 and Fred Thornton from 6-9\n\nMonday – Fred Thornton 6-9\n\nTuesday – Michael Nichols 5-8\n\nWednesday – Frank Carroll  6 – 9\n\nThursday – Fred Thornton 6 – 9\n\nFriday – Frank Carroll 6 – 9\n\nSaturday – Trace Gause 6 – 9
URL:https://visitmarcoislander.com/event/live-music-at-capri-fish-house/2026-05-09/
LOCATION:Capri Fish House\, 203 Capri Blvd\, Naples\, FL\, 34113\, United States
CATEGORIES:Restaurants
ATTACH;FMTTYPE=image/webp:https://visitmarcoislander.com/wp-content/uploads/2026/02/Capri-Live-Music.webp
END:VEVENT
BEGIN:VEVENT
DTSTART;TZID=UTC:20260510T180000
DTEND;TZID=UTC:20260510T210000
DTSTAMP:20260419T142850
CREATED:20260224T235025Z
LAST-MODIFIED:20260224T235824Z
UID:10010011-1778436000-1778446800@visitmarcoislander.com
SUMMARY:Live Music at Capri Fish House
DESCRIPTION:Daily live music: \nSunday – Trace Gause from 12 – 3 and Fred Thornton from 6-9\n\nMonday – Fred Thornton 6-9\n\nTuesday – Michael Nichols 5-8\n\nWednesday – Frank Carroll  6 – 9\n\nThursday – Fred Thornton 6 – 9\n\nFriday – Frank Carroll 6 – 9\n\nSaturday – Trace Gause 6 – 9
URL:https://visitmarcoislander.com/event/live-music-at-capri-fish-house/2026-05-10/
LOCATION:Capri Fish House\, 203 Capri Blvd\, Naples\, FL\, 34113\, United States
CATEGORIES:Restaurants
ATTACH;FMTTYPE=image/webp:https://visitmarcoislander.com/wp-content/uploads/2026/02/Capri-Live-Music.webp
END:VEVENT
BEGIN:VEVENT
DTSTART;TZID=UTC:20260511T180000
DTEND;TZID=UTC:20260511T210000
DTSTAMP:20260419T142850
CREATED:20260224T235025Z
LAST-MODIFIED:20260224T235824Z
UID:10010012-1778522400-1778533200@visitmarcoislander.com
SUMMARY:Live Music at Capri Fish House
DESCRIPTION:Daily live music: \nSunday – Trace Gause from 12 – 3 and Fred Thornton from 6-9\n\nMonday – Fred Thornton 6-9\n\nTuesday – Michael Nichols 5-8\n\nWednesday – Frank Carroll  6 – 9\n\nThursday – Fred Thornton 6 – 9\n\nFriday – Frank Carroll 6 – 9\n\nSaturday – Trace Gause 6 – 9
URL:https://visitmarcoislander.com/event/live-music-at-capri-fish-house/2026-05-11/
LOCATION:Capri Fish House\, 203 Capri Blvd\, Naples\, FL\, 34113\, United States
CATEGORIES:Restaurants
ATTACH;FMTTYPE=image/webp:https://visitmarcoislander.com/wp-content/uploads/2026/02/Capri-Live-Music.webp
END:VEVENT
BEGIN:VEVENT
DTSTART;TZID=UTC:20260513T180000
DTEND;TZID=UTC:20260513T210000
DTSTAMP:20260419T142850
CREATED:20260224T235025Z
LAST-MODIFIED:20260224T235824Z
UID:10010013-1778695200-1778706000@visitmarcoislander.com
SUMMARY:Live Music at Capri Fish House
DESCRIPTION:Daily live music: \nSunday – Trace Gause from 12 – 3 and Fred Thornton from 6-9\n\nMonday – Fred Thornton 6-9\n\nTuesday – Michael Nichols 5-8\n\nWednesday – Frank Carroll  6 – 9\n\nThursday – Fred Thornton 6 – 9\n\nFriday – Frank Carroll 6 – 9\n\nSaturday – Trace Gause 6 – 9
URL:https://visitmarcoislander.com/event/live-music-at-capri-fish-house/2026-05-13/
LOCATION:Capri Fish House\, 203 Capri Blvd\, Naples\, FL\, 34113\, United States
CATEGORIES:Restaurants
ATTACH;FMTTYPE=image/webp:https://visitmarcoislander.com/wp-content/uploads/2026/02/Capri-Live-Music.webp
END:VEVENT
BEGIN:VEVENT
DTSTART;TZID=UTC:20260514T180000
DTEND;TZID=UTC:20260514T210000
DTSTAMP:20260419T142850
CREATED:20260224T235025Z
LAST-MODIFIED:20260224T235824Z
UID:10010014-1778781600-1778792400@visitmarcoislander.com
SUMMARY:Live Music at Capri Fish House
DESCRIPTION:Daily live music: \nSunday – Trace Gause from 12 – 3 and Fred Thornton from 6-9\n\nMonday – Fred Thornton 6-9\n\nTuesday – Michael Nichols 5-8\n\nWednesday – Frank Carroll  6 – 9\n\nThursday – Fred Thornton 6 – 9\n\nFriday – Frank Carroll 6 – 9\n\nSaturday – Trace Gause 6 – 9
URL:https://visitmarcoislander.com/event/live-music-at-capri-fish-house/2026-05-14/
LOCATION:Capri Fish House\, 203 Capri Blvd\, Naples\, FL\, 34113\, United States
CATEGORIES:Restaurants
ATTACH;FMTTYPE=image/webp:https://visitmarcoislander.com/wp-content/uploads/2026/02/Capri-Live-Music.webp
END:VEVENT
BEGIN:VEVENT
DTSTART;TZID=UTC:20260515T180000
DTEND;TZID=UTC:20260515T210000
DTSTAMP:20260419T142850
CREATED:20260224T235025Z
LAST-MODIFIED:20260224T235824Z
UID:10010015-1778868000-1778878800@visitmarcoislander.com
SUMMARY:Live Music at Capri Fish House
DESCRIPTION:Daily live music: \nSunday – Trace Gause from 12 – 3 and Fred Thornton from 6-9\n\nMonday – Fred Thornton 6-9\n\nTuesday – Michael Nichols 5-8\n\nWednesday – Frank Carroll  6 – 9\n\nThursday – Fred Thornton 6 – 9\n\nFriday – Frank Carroll 6 – 9\n\nSaturday – Trace Gause 6 – 9
URL:https://visitmarcoislander.com/event/live-music-at-capri-fish-house/2026-05-15/
LOCATION:Capri Fish House\, 203 Capri Blvd\, Naples\, FL\, 34113\, United States
CATEGORIES:Restaurants
ATTACH;FMTTYPE=image/webp:https://visitmarcoislander.com/wp-content/uploads/2026/02/Capri-Live-Music.webp
END:VEVENT
BEGIN:VEVENT
DTSTART;TZID=UTC:20260516T180000
DTEND;TZID=UTC:20260516T210000
DTSTAMP:20260419T142850
CREATED:20260224T235025Z
LAST-MODIFIED:20260224T235824Z
UID:10010016-1778954400-1778965200@visitmarcoislander.com
SUMMARY:Live Music at Capri Fish House
DESCRIPTION:Daily live music: \nSunday – Trace Gause from 12 – 3 and Fred Thornton from 6-9\n\nMonday – Fred Thornton 6-9\n\nTuesday – Michael Nichols 5-8\n\nWednesday – Frank Carroll  6 – 9\n\nThursday – Fred Thornton 6 – 9\n\nFriday – Frank Carroll 6 – 9\n\nSaturday – Trace Gause 6 – 9
URL:https://visitmarcoislander.com/event/live-music-at-capri-fish-house/2026-05-16/
LOCATION:Capri Fish House\, 203 Capri Blvd\, Naples\, FL\, 34113\, United States
CATEGORIES:Restaurants
ATTACH;FMTTYPE=image/webp:https://visitmarcoislander.com/wp-content/uploads/2026/02/Capri-Live-Music.webp
END:VEVENT
BEGIN:VEVENT
DTSTART;TZID=UTC:20260517T180000
DTEND;TZID=UTC:20260517T210000
DTSTAMP:20260419T142850
CREATED:20260224T235025Z
LAST-MODIFIED:20260224T235824Z
UID:10010017-1779040800-1779051600@visitmarcoislander.com
SUMMARY:Live Music at Capri Fish House
DESCRIPTION:Daily live music: \nSunday – Trace Gause from 12 – 3 and Fred Thornton from 6-9\n\nMonday – Fred Thornton 6-9\n\nTuesday – Michael Nichols 5-8\n\nWednesday – Frank Carroll  6 – 9\n\nThursday – Fred Thornton 6 – 9\n\nFriday – Frank Carroll 6 – 9\n\nSaturday – Trace Gause 6 – 9
URL:https://visitmarcoislander.com/event/live-music-at-capri-fish-house/2026-05-17/
LOCATION:Capri Fish House\, 203 Capri Blvd\, Naples\, FL\, 34113\, United States
CATEGORIES:Restaurants
ATTACH;FMTTYPE=image/webp:https://visitmarcoislander.com/wp-content/uploads/2026/02/Capri-Live-Music.webp
END:VEVENT
BEGIN:VEVENT
DTSTART;TZID=UTC:20260518T180000
DTEND;TZID=UTC:20260518T210000
DTSTAMP:20260419T142850
CREATED:20260224T235025Z
LAST-MODIFIED:20260224T235824Z
UID:10010018-1779127200-1779138000@visitmarcoislander.com
SUMMARY:Live Music at Capri Fish House
DESCRIPTION:Daily live music: \nSunday – Trace Gause from 12 – 3 and Fred Thornton from 6-9\n\nMonday – Fred Thornton 6-9\n\nTuesday – Michael Nichols 5-8\n\nWednesday – Frank Carroll  6 – 9\n\nThursday – Fred Thornton 6 – 9\n\nFriday – Frank Carroll 6 – 9\n\nSaturday – Trace Gause 6 – 9
URL:https://visitmarcoislander.com/event/live-music-at-capri-fish-house/2026-05-18/
LOCATION:Capri Fish House\, 203 Capri Blvd\, Naples\, FL\, 34113\, United States
CATEGORIES:Restaurants
ATTACH;FMTTYPE=image/webp:https://visitmarcoislander.com/wp-content/uploads/2026/02/Capri-Live-Music.webp
END:VEVENT
BEGIN:VEVENT
DTSTART;TZID=UTC:20260520T180000
DTEND;TZID=UTC:20260520T210000
DTSTAMP:20260419T142850
CREATED:20260224T235025Z
LAST-MODIFIED:20260224T235824Z
UID:10010019-1779300000-1779310800@visitmarcoislander.com
SUMMARY:Live Music at Capri Fish House
DESCRIPTION:Daily live music: \nSunday – Trace Gause from 12 – 3 and Fred Thornton from 6-9\n\nMonday – Fred Thornton 6-9\n\nTuesday – Michael Nichols 5-8\n\nWednesday – Frank Carroll  6 – 9\n\nThursday – Fred Thornton 6 – 9\n\nFriday – Frank Carroll 6 – 9\n\nSaturday – Trace Gause 6 – 9
URL:https://visitmarcoislander.com/event/live-music-at-capri-fish-house/2026-05-20/
LOCATION:Capri Fish House\, 203 Capri Blvd\, Naples\, FL\, 34113\, United States
CATEGORIES:Restaurants
ATTACH;FMTTYPE=image/webp:https://visitmarcoislander.com/wp-content/uploads/2026/02/Capri-Live-Music.webp
END:VEVENT
BEGIN:VEVENT
DTSTART;TZID=UTC:20260521T180000
DTEND;TZID=UTC:20260521T210000
DTSTAMP:20260419T142850
CREATED:20260224T235025Z
LAST-MODIFIED:20260224T235824Z
UID:10010020-1779386400-1779397200@visitmarcoislander.com
SUMMARY:Live Music at Capri Fish House
DESCRIPTION:Daily live music: \nSunday – Trace Gause from 12 – 3 and Fred Thornton from 6-9\n\nMonday – Fred Thornton 6-9\n\nTuesday – Michael Nichols 5-8\n\nWednesday – Frank Carroll  6 – 9\n\nThursday – Fred Thornton 6 – 9\n\nFriday – Frank Carroll 6 – 9\n\nSaturday – Trace Gause 6 – 9
URL:https://visitmarcoislander.com/event/live-music-at-capri-fish-house/2026-05-21/
LOCATION:Capri Fish House\, 203 Capri Blvd\, Naples\, FL\, 34113\, United States
CATEGORIES:Restaurants
ATTACH;FMTTYPE=image/webp:https://visitmarcoislander.com/wp-content/uploads/2026/02/Capri-Live-Music.webp
END:VEVENT
BEGIN:VEVENT
DTSTART;TZID=UTC:20260522T180000
DTEND;TZID=UTC:20260522T210000
DTSTAMP:20260419T142850
CREATED:20260224T235025Z
LAST-MODIFIED:20260224T235824Z
UID:10010021-1779472800-1779483600@visitmarcoislander.com
SUMMARY:Live Music at Capri Fish House
DESCRIPTION:Daily live music: \nSunday – Trace Gause from 12 – 3 and Fred Thornton from 6-9\n\nMonday – Fred Thornton 6-9\n\nTuesday – Michael Nichols 5-8\n\nWednesday – Frank Carroll  6 – 9\n\nThursday – Fred Thornton 6 – 9\n\nFriday – Frank Carroll 6 – 9\n\nSaturday – Trace Gause 6 – 9
URL:https://visitmarcoislander.com/event/live-music-at-capri-fish-house/2026-05-22/
LOCATION:Capri Fish House\, 203 Capri Blvd\, Naples\, FL\, 34113\, United States
CATEGORIES:Restaurants
ATTACH;FMTTYPE=image/webp:https://visitmarcoislander.com/wp-content/uploads/2026/02/Capri-Live-Music.webp
END:VEVENT
BEGIN:VEVENT
DTSTART;TZID=UTC:20260523T180000
DTEND;TZID=UTC:20260523T210000
DTSTAMP:20260419T142850
CREATED:20260224T235025Z
LAST-MODIFIED:20260224T235824Z
UID:10010022-1779559200-1779570000@visitmarcoislander.com
SUMMARY:Live Music at Capri Fish House
DESCRIPTION:Daily live music: \nSunday – Trace Gause from 12 – 3 and Fred Thornton from 6-9\n\nMonday – Fred Thornton 6-9\n\nTuesday – Michael Nichols 5-8\n\nWednesday – Frank Carroll  6 – 9\n\nThursday – Fred Thornton 6 – 9\n\nFriday – Frank Carroll 6 – 9\n\nSaturday – Trace Gause 6 – 9
URL:https://visitmarcoislander.com/event/live-music-at-capri-fish-house/2026-05-23/
LOCATION:Capri Fish House\, 203 Capri Blvd\, Naples\, FL\, 34113\, United States
CATEGORIES:Restaurants
ATTACH;FMTTYPE=image/webp:https://visitmarcoislander.com/wp-content/uploads/2026/02/Capri-Live-Music.webp
END:VEVENT
END:VCALENDAR