BEGIN:VCALENDAR
VERSION:2.0
PRODID:-//The Key to Paradise – Discover Marco Like a Local - ECPv6.15.18//NONSGML v1.0//EN
CALSCALE:GREGORIAN
METHOD:PUBLISH
X-WR-CALNAME:The Key to Paradise – Discover Marco Like a Local
X-ORIGINAL-URL:https://visitmarcoislander.com
X-WR-CALDESC:Events for The Key to Paradise – Discover Marco Like a Local
REFRESH-INTERVAL;VALUE=DURATION:PT1H
X-Robots-Tag:noindex
X-PUBLISHED-TTL:PT1H
BEGIN:VTIMEZONE
TZID:UTC
BEGIN:STANDARD
TZOFFSETFROM:+0000
TZOFFSETTO:+0000
TZNAME:UTC
DTSTART:20250101T000000
END:STANDARD
END:VTIMEZONE
BEGIN:VEVENT
DTSTART;TZID=UTC:20260304T180000
DTEND;TZID=UTC:20260304T220000
DTSTAMP:20260419T171809
CREATED:20260219T225357Z
LAST-MODIFIED:20260220T205522Z
UID:10004214-1772647200-1772661600@visitmarcoislander.com
SUMMARY:Live Music at Snook Inn
DESCRIPTION:Live music daily from 1:30pm-5:30pm and 6pm – 10pm
URL:https://visitmarcoislander.com/event/live-music-snook-inn-3/2026-03-04/
LOCATION:Snook Inn
CATEGORIES:Restaurants
ATTACH;FMTTYPE=image/webp:https://visitmarcoislander.com/wp-content/uploads/2026/02/Snook-Inn-Music-Night.webp
END:VEVENT
BEGIN:VEVENT
DTSTART;TZID=UTC:20260304T190000
DTEND;TZID=UTC:20260304T210000
DTSTAMP:20260419T171809
CREATED:20260219T215934Z
LAST-MODIFIED:20260314T215345Z
UID:10002902-1772650800-1772658000@visitmarcoislander.com
SUMMARY:Trivia Night at Paddy Murphy's
DESCRIPTION:Mondays and Wednesdays every week \n\nJoin us for Trivia Night every Monday and Wednesday from 7:00 PM to 9:00 PM! \n\n07:00 PM – 09:00 PM
URL:https://visitmarcoislander.com/event/trivia-night-3/2026-03-04/
LOCATION:Paddy Murphy\, 1089 N Collier Blvd\, Marco island\, FL\, 34145\, United States
CATEGORIES:Restaurants
ATTACH;FMTTYPE=image/jpeg:https://visitmarcoislander.com/wp-content/uploads/2026/02/Trivia.jpg
END:VEVENT
BEGIN:VEVENT
DTSTART;TZID=UTC:20260304T200000
DTEND;TZID=UTC:20260304T230000
DTSTAMP:20260419T171809
CREATED:20260219T223010Z
LAST-MODIFIED:20260220T203458Z
UID:10000815-1772654400-1772665200@visitmarcoislander.com
SUMMARY:Karaoke Nite at Sand Bar
DESCRIPTION:Grab the mic\, bring the crew\, and sing your heart out tonight! No judgment\, just good vibes\, cold drinks\, and your favorite songs. Who’s going first? 👀🍻
URL:https://visitmarcoislander.com/event/karaoke-nite/2026-03-04/
LOCATION:Sand Bar\, 826 E. Elkcam Circle\, Marco Island\, FL\, 34145\, United States
CATEGORIES:Restaurants
ATTACH;FMTTYPE=image/avif:https://visitmarcoislander.com/wp-content/uploads/2026/02/Karaoke-Nite.avif
END:VEVENT
BEGIN:VEVENT
DTSTART;TZID=UTC:20260305T130000
DTEND;TZID=UTC:20260305T170000
DTSTAMP:20260419T171809
CREATED:20260219T224957Z
LAST-MODIFIED:20260220T203709Z
UID:10001087-1772715600-1772730000@visitmarcoislander.com
SUMMARY:Live Music at Snook Inn
DESCRIPTION:Live music daily from 1:30pm-5:30pm and 6pm – 10pm
URL:https://visitmarcoislander.com/event/live-music-snook-inn/2026-03-05/
LOCATION:Snook Inn
CATEGORIES:Restaurants
ATTACH;FMTTYPE=image/webp:https://visitmarcoislander.com/wp-content/uploads/2026/02/Snook-Events-1.webp
END:VEVENT
BEGIN:VEVENT
DTSTART;TZID=UTC:20260305T180000
DTEND;TZID=UTC:20260305T210000
DTSTAMP:20260419T171809
CREATED:20260219T233253Z
LAST-MODIFIED:20260220T203150Z
UID:10000037-1772733600-1772744400@visitmarcoislander.com
SUMMARY:Live Music Lauren Sheppard Davide Italian Cafe
DESCRIPTION:Live Music 6:00 – 9:00\n\n\n\nThursday\, Friday & Saturday – Lauren Sheppard
URL:https://visitmarcoislander.com/event/live-music-600-900-thursday-friday-saturday-lauren-sheppard-2/2026-03-05/
LOCATION:Davide Italian Cafe\, 688 Bald Eagle Dr.\, Marco Island\, FL\, 34145\, United States
CATEGORIES:Restaurants
ATTACH;FMTTYPE=image/webp:https://visitmarcoislander.com/wp-content/uploads/2026/02/davide-music.webp
END:VEVENT
BEGIN:VEVENT
DTSTART;TZID=UTC:20260305T180000
DTEND;TZID=UTC:20260305T210000
DTSTAMP:20260419T171809
CREATED:20260224T235025Z
LAST-MODIFIED:20260224T235824Z
UID:10009954-1772733600-1772744400@visitmarcoislander.com
SUMMARY:Live Music at Capri Fish House
DESCRIPTION:Daily live music: \nSunday – Trace Gause from 12 – 3 and Fred Thornton from 6-9\n\nMonday – Fred Thornton 6-9\n\nTuesday – Michael Nichols 5-8\n\nWednesday – Frank Carroll  6 – 9\n\nThursday – Fred Thornton 6 – 9\n\nFriday – Frank Carroll 6 – 9\n\nSaturday – Trace Gause 6 – 9
URL:https://visitmarcoislander.com/event/live-music-at-capri-fish-house/2026-03-05/
LOCATION:Capri Fish House\, 203 Capri Blvd\, Naples\, FL\, 34113\, United States
CATEGORIES:Restaurants
ATTACH;FMTTYPE=image/webp:https://visitmarcoislander.com/wp-content/uploads/2026/02/Capri-Live-Music.webp
END:VEVENT
BEGIN:VEVENT
DTSTART;TZID=UTC:20260305T180000
DTEND;TZID=UTC:20260305T220000
DTSTAMP:20260419T171809
CREATED:20260219T225357Z
LAST-MODIFIED:20260220T205522Z
UID:10004215-1772733600-1772748000@visitmarcoislander.com
SUMMARY:Live Music at Snook Inn
DESCRIPTION:Live music daily from 1:30pm-5:30pm and 6pm – 10pm
URL:https://visitmarcoislander.com/event/live-music-snook-inn-3/2026-03-05/
LOCATION:Snook Inn
CATEGORIES:Restaurants
ATTACH;FMTTYPE=image/webp:https://visitmarcoislander.com/wp-content/uploads/2026/02/Snook-Inn-Music-Night.webp
END:VEVENT
BEGIN:VEVENT
DTSTART;TZID=UTC:20260305T190000
DTEND;TZID=UTC:20260305T220000
DTSTAMP:20260419T171809
CREATED:20260314T222941Z
LAST-MODIFIED:20260314T222941Z
UID:10008376-1772737200-1772748000@visitmarcoislander.com
SUMMARY:Omar Baker at La Tavola
DESCRIPTION:Every Thursday \n\n07:00 PM – 10:00 PM
URL:https://visitmarcoislander.com/event/omar-baker-at-la-tavola-2/2026-03-05/
LOCATION:La Tavola\, 961 Winterberry Dr\, Marco Island\, FL\, 34145\, United States
CATEGORIES:Restaurants
ATTACH;FMTTYPE=image/jpeg:https://visitmarcoislander.com/wp-content/uploads/2026/02/omar-Baker.jpg
END:VEVENT
BEGIN:VEVENT
DTSTART;TZID=UTC:20260305T200000
DTEND;TZID=UTC:20260305T230000
DTSTAMP:20260419T171809
CREATED:20260219T223514Z
LAST-MODIFIED:20260314T220435Z
UID:10012320-1772740800-1772751600@visitmarcoislander.com
SUMMARY:Elliott West Band at Sand Bar
DESCRIPTION:Performing everything from Classic\, Country\, Alternative and dance rock to easy listening and Soul Rhythm and Blues
URL:https://visitmarcoislander.com/event/elliott-west-band-3/2026-03-05/
LOCATION:Sand Bar\, 826 E. Elkcam Circle\, Marco Island\, FL\, 34145\, United States
CATEGORIES:Restaurants
ATTACH;FMTTYPE=image/avif:https://visitmarcoislander.com/wp-content/uploads/2026/02/elliot-West-Sand.avif
END:VEVENT
BEGIN:VEVENT
DTSTART;TZID=UTC:20260306T130000
DTEND;TZID=UTC:20260306T170000
DTSTAMP:20260419T171809
CREATED:20260219T224957Z
LAST-MODIFIED:20260220T203709Z
UID:10001088-1772802000-1772816400@visitmarcoislander.com
SUMMARY:Live Music at Snook Inn
DESCRIPTION:Live music daily from 1:30pm-5:30pm and 6pm – 10pm
URL:https://visitmarcoislander.com/event/live-music-snook-inn/2026-03-06/
LOCATION:Snook Inn
CATEGORIES:Restaurants
ATTACH;FMTTYPE=image/webp:https://visitmarcoislander.com/wp-content/uploads/2026/02/Snook-Events-1.webp
END:VEVENT
BEGIN:VEVENT
DTSTART;TZID=UTC:20260306T180000
DTEND;TZID=UTC:20260306T210000
DTSTAMP:20260419T171809
CREATED:20260219T233253Z
LAST-MODIFIED:20260220T203150Z
UID:10000038-1772820000-1772830800@visitmarcoislander.com
SUMMARY:Live Music Lauren Sheppard Davide Italian Cafe
DESCRIPTION:Live Music 6:00 – 9:00\n\n\n\nThursday\, Friday & Saturday – Lauren Sheppard
URL:https://visitmarcoislander.com/event/live-music-600-900-thursday-friday-saturday-lauren-sheppard-2/2026-03-06/
LOCATION:Davide Italian Cafe\, 688 Bald Eagle Dr.\, Marco Island\, FL\, 34145\, United States
CATEGORIES:Restaurants
ATTACH;FMTTYPE=image/webp:https://visitmarcoislander.com/wp-content/uploads/2026/02/davide-music.webp
END:VEVENT
BEGIN:VEVENT
DTSTART;TZID=UTC:20260306T180000
DTEND;TZID=UTC:20260306T210000
DTSTAMP:20260419T171809
CREATED:20260224T235025Z
LAST-MODIFIED:20260224T235824Z
UID:10009955-1772820000-1772830800@visitmarcoislander.com
SUMMARY:Live Music at Capri Fish House
DESCRIPTION:Daily live music: \nSunday – Trace Gause from 12 – 3 and Fred Thornton from 6-9\n\nMonday – Fred Thornton 6-9\n\nTuesday – Michael Nichols 5-8\n\nWednesday – Frank Carroll  6 – 9\n\nThursday – Fred Thornton 6 – 9\n\nFriday – Frank Carroll 6 – 9\n\nSaturday – Trace Gause 6 – 9
URL:https://visitmarcoislander.com/event/live-music-at-capri-fish-house/2026-03-06/
LOCATION:Capri Fish House\, 203 Capri Blvd\, Naples\, FL\, 34113\, United States
CATEGORIES:Restaurants
ATTACH;FMTTYPE=image/webp:https://visitmarcoislander.com/wp-content/uploads/2026/02/Capri-Live-Music.webp
END:VEVENT
BEGIN:VEVENT
DTSTART;TZID=UTC:20260306T180000
DTEND;TZID=UTC:20260306T220000
DTSTAMP:20260419T171809
CREATED:20260219T225357Z
LAST-MODIFIED:20260220T205522Z
UID:10004216-1772820000-1772834400@visitmarcoislander.com
SUMMARY:Live Music at Snook Inn
DESCRIPTION:Live music daily from 1:30pm-5:30pm and 6pm – 10pm
URL:https://visitmarcoislander.com/event/live-music-snook-inn-3/2026-03-06/
LOCATION:Snook Inn
CATEGORIES:Restaurants
ATTACH;FMTTYPE=image/webp:https://visitmarcoislander.com/wp-content/uploads/2026/02/Snook-Inn-Music-Night.webp
END:VEVENT
BEGIN:VEVENT
DTSTART;TZID=UTC:20260306T190000
DTEND;TZID=UTC:20260306T220000
DTSTAMP:20260419T171809
CREATED:20260219T230114Z
LAST-MODIFIED:20260220T212740Z
UID:10007074-1772823600-1772834400@visitmarcoislander.com
SUMMARY:Ludy & His Lady at La Tavola
DESCRIPTION:LUDY and his LADY deliver an energetic\, interactive performance that will have you singing along and dancing the night away. Experience world class\, powerhouse vocals with unmatched variety in this one of a kind show that everyone will love! \n\n07:00 PM – 10:00 PM
URL:https://visitmarcoislander.com/event/ludy-his-lady/2026-03-06/
LOCATION:La Tavola\, 961 Winterberry Dr\, Marco Island\, FL\, 34145\, United States
CATEGORIES:Restaurants
ATTACH;FMTTYPE=image/jpeg:https://visitmarcoislander.com/wp-content/uploads/2026/02/Ludy-His-Lady-la.jpg
END:VEVENT
BEGIN:VEVENT
DTSTART;TZID=UTC:20260306T200000
DTEND;TZID=UTC:20260306T230000
DTSTAMP:20260419T171809
CREATED:20260220T211222Z
LAST-MODIFIED:20260220T212226Z
UID:10006292-1772827200-1772838000@visitmarcoislander.com
SUMMARY:Yasel R. Barreras at The Oyster Society
DESCRIPTION:Every Friday | 8pm – 11pm\nYaselsax\, Saxofonist Soloist player\, professor and Instrument repair technician specializing in woodwinds instruments has been remarked for his multiple collaboration with artists from around the world. Born in Camagüey\, Cuba in a very musical environment his talent was noticed at a very early age. He started his professional career when he was 23 years old after graduating as a professional Saxophone soloist.
URL:https://visitmarcoislander.com/event/yasel-r-barreras-at-the-oyster-society/2026-03-06/
LOCATION:The Oyster Society\, 599 South Collier Blvd.\, #218\, Marco Island\, 34145\, United States
CATEGORIES:Restaurants
ATTACH;FMTTYPE=image/jpeg:https://visitmarcoislander.com/wp-content/uploads/2026/02/Yasel-R.-Barreras.jpeg
END:VEVENT
BEGIN:VEVENT
DTSTART;TZID=UTC:20260307T130000
DTEND;TZID=UTC:20260307T170000
DTSTAMP:20260419T171809
CREATED:20260219T224957Z
LAST-MODIFIED:20260220T203709Z
UID:10001089-1772888400-1772902800@visitmarcoislander.com
SUMMARY:Live Music at Snook Inn
DESCRIPTION:Live music daily from 1:30pm-5:30pm and 6pm – 10pm
URL:https://visitmarcoislander.com/event/live-music-snook-inn/2026-03-07/
LOCATION:Snook Inn
CATEGORIES:Restaurants
ATTACH;FMTTYPE=image/webp:https://visitmarcoislander.com/wp-content/uploads/2026/02/Snook-Events-1.webp
END:VEVENT
BEGIN:VEVENT
DTSTART;TZID=UTC:20260307T180000
DTEND;TZID=UTC:20260307T210000
DTSTAMP:20260419T171809
CREATED:20260219T233253Z
LAST-MODIFIED:20260220T203150Z
UID:10000039-1772906400-1772917200@visitmarcoislander.com
SUMMARY:Live Music Lauren Sheppard Davide Italian Cafe
DESCRIPTION:Live Music 6:00 – 9:00\n\n\n\nThursday\, Friday & Saturday – Lauren Sheppard
URL:https://visitmarcoislander.com/event/live-music-600-900-thursday-friday-saturday-lauren-sheppard-2/2026-03-07/
LOCATION:Davide Italian Cafe\, 688 Bald Eagle Dr.\, Marco Island\, FL\, 34145\, United States
CATEGORIES:Restaurants
ATTACH;FMTTYPE=image/webp:https://visitmarcoislander.com/wp-content/uploads/2026/02/davide-music.webp
END:VEVENT
BEGIN:VEVENT
DTSTART;TZID=UTC:20260307T180000
DTEND;TZID=UTC:20260307T210000
DTSTAMP:20260419T171809
CREATED:20260224T235025Z
LAST-MODIFIED:20260224T235824Z
UID:10009956-1772906400-1772917200@visitmarcoislander.com
SUMMARY:Live Music at Capri Fish House
DESCRIPTION:Daily live music: \nSunday – Trace Gause from 12 – 3 and Fred Thornton from 6-9\n\nMonday – Fred Thornton 6-9\n\nTuesday – Michael Nichols 5-8\n\nWednesday – Frank Carroll  6 – 9\n\nThursday – Fred Thornton 6 – 9\n\nFriday – Frank Carroll 6 – 9\n\nSaturday – Trace Gause 6 – 9
URL:https://visitmarcoislander.com/event/live-music-at-capri-fish-house/2026-03-07/
LOCATION:Capri Fish House\, 203 Capri Blvd\, Naples\, FL\, 34113\, United States
CATEGORIES:Restaurants
ATTACH;FMTTYPE=image/webp:https://visitmarcoislander.com/wp-content/uploads/2026/02/Capri-Live-Music.webp
END:VEVENT
BEGIN:VEVENT
DTSTART;TZID=UTC:20260307T180000
DTEND;TZID=UTC:20260307T220000
DTSTAMP:20260419T171809
CREATED:20260219T225357Z
LAST-MODIFIED:20260220T205522Z
UID:10004217-1772906400-1772920800@visitmarcoislander.com
SUMMARY:Live Music at Snook Inn
DESCRIPTION:Live music daily from 1:30pm-5:30pm and 6pm – 10pm
URL:https://visitmarcoislander.com/event/live-music-snook-inn-3/2026-03-07/
LOCATION:Snook Inn
CATEGORIES:Restaurants
ATTACH;FMTTYPE=image/webp:https://visitmarcoislander.com/wp-content/uploads/2026/02/Snook-Inn-Music-Night.webp
END:VEVENT
BEGIN:VEVENT
DTSTART;TZID=UTC:20260307T190000
DTEND;TZID=UTC:20260307T220000
DTSTAMP:20260419T171809
CREATED:20260219T230311Z
LAST-MODIFIED:20260220T212932Z
UID:10007334-1772910000-1772920800@visitmarcoislander.com
SUMMARY:Greg Miller's Motown Magic at La Tavola
DESCRIPTION:Every Saturday \nA celebration of the glory days of Classic Soul\, and the Motown sound \n\n07:00 PM – 10:00 PM
URL:https://visitmarcoislander.com/event/greg-millers-motown-magic/2026-03-07/
LOCATION:La Tavola\, 961 Winterberry Dr\, Marco Island\, FL\, 34145\, United States
CATEGORIES:Restaurants
ATTACH;FMTTYPE=image/jpeg:https://visitmarcoislander.com/wp-content/uploads/2026/02/Greg-Millers-Motown-Magic.jpg
END:VEVENT
BEGIN:VEVENT
DTSTART;TZID=UTC:20260307T200000
DTEND;TZID=UTC:20260307T230000
DTSTAMP:20260419T171809
CREATED:20260220T211741Z
LAST-MODIFIED:20260220T212140Z
UID:10006553-1772913600-1772924400@visitmarcoislander.com
SUMMARY:Live Music at The Oyster Society
DESCRIPTION:Rotating Bands
URL:https://visitmarcoislander.com/event/live-music-at-the-oyster-society/2026-03-07/
LOCATION:The Oyster Society\, 599 South Collier Blvd.\, #218\, Marco Island\, 34145\, United States
CATEGORIES:Restaurants
ATTACH;FMTTYPE=image/webp:https://visitmarcoislander.com/wp-content/uploads/2026/02/The-Oyster-Music.webp
END:VEVENT
BEGIN:VEVENT
DTSTART;TZID=UTC:20260307T210000
DTEND;TZID=UTC:20260308T020000
DTSTAMP:20260419T171809
CREATED:20260220T210609Z
LAST-MODIFIED:20260222T004948Z
UID:10008636-1772917200-1772935200@visitmarcoislander.com
SUMMARY:DJ RAINDROP at PADDY MURPHY'S
DESCRIPTION:Every Saturday \nDJ RAINDROP HELPS YOU DANCE THE NIGHT AWAY AT PADDY`S! \n\n09:00 PM – 02:00 AM
URL:https://visitmarcoislander.com/event/dj-raindrop-at-paddy-murphys/2026-03-07/
LOCATION:Paddy Murphy\, 1089 N Collier Blvd\, Marco island\, FL\, 34145\, United States
CATEGORIES:Restaurants
ATTACH;FMTTYPE=image/jpeg:https://visitmarcoislander.com/wp-content/uploads/2026/02/dj-raindrop-paddy.jpg
END:VEVENT
BEGIN:VEVENT
DTSTART;TZID=UTC:20260308T120000
DTEND;TZID=UTC:20260308T150000
DTSTAMP:20260419T171809
CREATED:20260219T214948Z
LAST-MODIFIED:20260314T214939Z
UID:10003943-1772971200-1772982000@visitmarcoislander.com
SUMMARY:TRADITIONAL IRISH MUSIC SESSION AT PADDY MURPHY'S
DESCRIPTION:Every Sunday \n\nTraditional Irish Music just like you see at a Pub in Ireland where musicians join together from various places. \nIf you fancy an Irish Breakfast\, we have that too! \n\n12:00 PM – 03:00 PM
URL:https://visitmarcoislander.com/event/traditional-irish-music-session/2026-03-08/
LOCATION:Paddy Murphy\, 1089 N Collier Blvd\, Marco island\, FL\, 34145\, United States
CATEGORIES:Restaurants
ATTACH;FMTTYPE=image/jpeg:https://visitmarcoislander.com/wp-content/uploads/2026/02/Traditional-Irish-Music.jpg
END:VEVENT
BEGIN:VEVENT
DTSTART;TZID=UTC:20260308T130000
DTEND;TZID=UTC:20260308T170000
DTSTAMP:20260419T171809
CREATED:20260219T224957Z
LAST-MODIFIED:20260220T203709Z
UID:10001090-1772974800-1772989200@visitmarcoislander.com
SUMMARY:Live Music at Snook Inn
DESCRIPTION:Live music daily from 1:30pm-5:30pm and 6pm – 10pm
URL:https://visitmarcoislander.com/event/live-music-snook-inn/2026-03-08/
LOCATION:Snook Inn
CATEGORIES:Restaurants
ATTACH;FMTTYPE=image/webp:https://visitmarcoislander.com/wp-content/uploads/2026/02/Snook-Events-1.webp
END:VEVENT
BEGIN:VEVENT
DTSTART;TZID=UTC:20260308T180000
DTEND;TZID=UTC:20260308T200000
DTSTAMP:20260419T171809
CREATED:20260219T222116Z
LAST-MODIFIED:20260314T222344Z
UID:10013629-1772992800-1773000000@visitmarcoislander.com
SUMMARY:QM Trivia at the Sand Bar
DESCRIPTION:Marco Island\, are you ready to bring your A-Game? 🏆
URL:https://visitmarcoislander.com/event/qm-trivia/2026-03-08/
LOCATION:Sand Bar\, 826 E. Elkcam Circle\, Marco Island\, FL\, 34145\, United States
CATEGORIES:Restaurants
ATTACH;FMTTYPE=image/avif:https://visitmarcoislander.com/wp-content/uploads/2026/02/QM-Trivia.avif
END:VEVENT
BEGIN:VEVENT
DTSTART;TZID=UTC:20260308T180000
DTEND;TZID=UTC:20260308T210000
DTSTAMP:20260419T171809
CREATED:20260219T215713Z
LAST-MODIFIED:20260314T215226Z
UID:10011787-1772992800-1773003600@visitmarcoislander.com
SUMMARY:DONEGAL AIR
DESCRIPTION:Every Sunday \n06:00 PM – 09:00 PM
URL:https://visitmarcoislander.com/event/donegal-air/2026-03-08/
LOCATION:Paddy Murphy\, 1089 N Collier Blvd\, Marco island\, FL\, 34145\, United States
CATEGORIES:Restaurants
ATTACH;FMTTYPE=image/jpeg:https://visitmarcoislander.com/wp-content/uploads/2026/02/donegal-air.jpg
END:VEVENT
BEGIN:VEVENT
DTSTART;TZID=UTC:20260308T180000
DTEND;TZID=UTC:20260308T210000
DTSTAMP:20260419T171809
CREATED:20260219T230519Z
LAST-MODIFIED:20260314T223312Z
UID:10007594-1772992800-1773003600@visitmarcoislander.com
SUMMARY:The Richmonds at La Tavola
DESCRIPTION:JES & VICKY RICHMOND bring 30 years of experience as singer/songwriters\, musicians and vocalists to the table. With a well-rounded collection of pop\, rock\, light jazz\, country\, and classic rock\, \n\n06:00 PM – 09:00 PM
URL:https://visitmarcoislander.com/event/the-richmonds/2026-03-08/
LOCATION:La Tavola\, 961 Winterberry Dr\, Marco Island\, FL\, 34145\, United States
CATEGORIES:Restaurants
ATTACH;FMTTYPE=image/jpeg:https://visitmarcoislander.com/wp-content/uploads/2026/02/The-Richmonds.jpg
END:VEVENT
BEGIN:VEVENT
DTSTART;TZID=UTC:20260308T180000
DTEND;TZID=UTC:20260308T210000
DTSTAMP:20260419T171809
CREATED:20260224T235025Z
LAST-MODIFIED:20260224T235824Z
UID:10009957-1772992800-1773003600@visitmarcoislander.com
SUMMARY:Live Music at Capri Fish House
DESCRIPTION:Daily live music: \nSunday – Trace Gause from 12 – 3 and Fred Thornton from 6-9\n\nMonday – Fred Thornton 6-9\n\nTuesday – Michael Nichols 5-8\n\nWednesday – Frank Carroll  6 – 9\n\nThursday – Fred Thornton 6 – 9\n\nFriday – Frank Carroll 6 – 9\n\nSaturday – Trace Gause 6 – 9
URL:https://visitmarcoislander.com/event/live-music-at-capri-fish-house/2026-03-08/
LOCATION:Capri Fish House\, 203 Capri Blvd\, Naples\, FL\, 34113\, United States
CATEGORIES:Restaurants
ATTACH;FMTTYPE=image/webp:https://visitmarcoislander.com/wp-content/uploads/2026/02/Capri-Live-Music.webp
END:VEVENT
BEGIN:VEVENT
DTSTART;TZID=UTC:20260308T180000
DTEND;TZID=UTC:20260308T220000
DTSTAMP:20260419T171809
CREATED:20260219T225357Z
LAST-MODIFIED:20260220T205522Z
UID:10004218-1772992800-1773007200@visitmarcoislander.com
SUMMARY:Live Music at Snook Inn
DESCRIPTION:Live music daily from 1:30pm-5:30pm and 6pm – 10pm
URL:https://visitmarcoislander.com/event/live-music-snook-inn-3/2026-03-08/
LOCATION:Snook Inn
CATEGORIES:Restaurants
ATTACH;FMTTYPE=image/webp:https://visitmarcoislander.com/wp-content/uploads/2026/02/Snook-Inn-Music-Night.webp
END:VEVENT
BEGIN:VEVENT
DTSTART;TZID=UTC:20260308T200000
DTEND;TZID=UTC:20260308T230000
DTSTAMP:20260419T171809
CREATED:20260220T212036Z
LAST-MODIFIED:20260220T212036Z
UID:10006814-1773000000-1773010800@visitmarcoislander.com
SUMMARY:Gerald Augustin at The Oyster Society
DESCRIPTION:Born and raised in Fort Myers\, Florida\, he honed his chops at Cypress Lake Center for the Arts\, Edison State College (now Florida Southwestern)\, Florida International University. He’s performed at hundreds of venues in Southwest Florida – from Fort Myers Beach and Sanibel\, to Naples and Marco Island – as well as New York\, Los Angeles\, New Orleans\, and cruise ships in Europe.
URL:https://visitmarcoislander.com/event/gerald-augustin-at-the-oyster-society/2026-03-08/
LOCATION:The Oyster Society\, 599 South Collier Blvd.\, #218\, Marco Island\, 34145\, United States
CATEGORIES:Restaurants
ATTACH;FMTTYPE=image/jpeg:https://visitmarcoislander.com/wp-content/uploads/2026/02/Gerald-Augustin-Oyster.jpeg
END:VEVENT
END:VCALENDAR