BEGIN:VCALENDAR
VERSION:2.0
PRODID:-//The Key to Paradise – Discover Marco Like a Local - ECPv6.15.18//NONSGML v1.0//EN
CALSCALE:GREGORIAN
METHOD:PUBLISH
X-ORIGINAL-URL:https://visitmarcoislander.com
X-WR-CALDESC:Events for The Key to Paradise – Discover Marco Like a Local
REFRESH-INTERVAL;VALUE=DURATION:PT1H
X-Robots-Tag:noindex
X-PUBLISHED-TTL:PT1H
BEGIN:VTIMEZONE
TZID:UTC
BEGIN:STANDARD
TZOFFSETFROM:+0000
TZOFFSETTO:+0000
TZNAME:UTC
DTSTART:20260101T000000
END:STANDARD
END:VTIMEZONE
BEGIN:VTIMEZONE
TZID:America/New_York
BEGIN:DAYLIGHT
TZOFFSETFROM:-0500
TZOFFSETTO:-0400
TZNAME:EDT
DTSTART:20260308T070000
END:DAYLIGHT
BEGIN:STANDARD
TZOFFSETFROM:-0400
TZOFFSETTO:-0500
TZNAME:EST
DTSTART:20261101T060000
END:STANDARD
BEGIN:DAYLIGHT
TZOFFSETFROM:-0500
TZOFFSETTO:-0400
TZNAME:EDT
DTSTART:20270314T070000
END:DAYLIGHT
BEGIN:STANDARD
TZOFFSETFROM:-0400
TZOFFSETTO:-0500
TZNAME:EST
DTSTART:20271107T060000
END:STANDARD
BEGIN:DAYLIGHT
TZOFFSETFROM:-0500
TZOFFSETTO:-0400
TZNAME:EDT
DTSTART:20280312T070000
END:DAYLIGHT
BEGIN:STANDARD
TZOFFSETFROM:-0400
TZOFFSETTO:-0500
TZNAME:EST
DTSTART:20281105T060000
END:STANDARD
END:VTIMEZONE
BEGIN:VEVENT
DTSTART;TZID=UTC:20270322T130000
DTEND;TZID=UTC:20270322T170000
DTSTAMP:20260422T200304
CREATED:20260219T224957Z
LAST-MODIFIED:20260220T203709Z
UID:10001469-1805720400-1805734800@visitmarcoislander.com
SUMMARY:Live Music at Snook Inn
DESCRIPTION:Live music daily from 1:30pm-5:30pm and 6pm – 10pm
URL:https://visitmarcoislander.com/event/live-music-snook-inn/2027-03-22/
LOCATION:Snook Inn
CATEGORIES:Restaurants
ATTACH;FMTTYPE=image/webp:https://visitmarcoislander.com/wp-content/uploads/2026/02/Snook-Events-1.webp
END:VEVENT
BEGIN:VEVENT
DTSTART;TZID=UTC:20270322T180000
DTEND;TZID=UTC:20270322T210000
DTSTAMP:20260422T200304
CREATED:20260224T235025Z
LAST-MODIFIED:20260224T235824Z
UID:10010282-1805738400-1805749200@visitmarcoislander.com
SUMMARY:Live Music at Capri Fish House
DESCRIPTION:Daily live music: \nSunday – Trace Gause from 12 – 3 and Fred Thornton from 6-9\n\nMonday – Fred Thornton 6-9\n\nTuesday – Michael Nichols 5-8\n\nWednesday – Frank Carroll  6 – 9\n\nThursday – Fred Thornton 6 – 9\n\nFriday – Frank Carroll 6 – 9\n\nSaturday – Trace Gause 6 – 9
URL:https://visitmarcoislander.com/event/live-music-at-capri-fish-house/2027-03-22/
LOCATION:Capri Fish House\, 203 Capri Blvd\, Naples\, FL\, 34113\, United States
CATEGORIES:Restaurants
ATTACH;FMTTYPE=image/webp:https://visitmarcoislander.com/wp-content/uploads/2026/02/Capri-Live-Music.webp
END:VEVENT
BEGIN:VEVENT
DTSTART;TZID=UTC:20270322T180000
DTEND;TZID=UTC:20270322T220000
DTSTAMP:20260422T200304
CREATED:20260219T225357Z
LAST-MODIFIED:20260220T205522Z
UID:10004597-1805738400-1805752800@visitmarcoislander.com
SUMMARY:Live Music at Snook Inn
DESCRIPTION:Live music daily from 1:30pm-5:30pm and 6pm – 10pm
URL:https://visitmarcoislander.com/event/live-music-snook-inn-3/2027-03-22/
LOCATION:Snook Inn
CATEGORIES:Restaurants
ATTACH;FMTTYPE=image/webp:https://visitmarcoislander.com/wp-content/uploads/2026/02/Snook-Inn-Music-Night.webp
END:VEVENT
BEGIN:VEVENT
DTSTART;TZID=UTC:20270322T190000
DTEND;TZID=UTC:20270322T210000
DTSTAMP:20260422T200304
CREATED:20260219T215934Z
LAST-MODIFIED:20260314T215345Z
UID:10003011-1805742000-1805749200@visitmarcoislander.com
SUMMARY:Trivia Night at Paddy Murphy's
DESCRIPTION:Mondays and Wednesdays every week \n\nJoin us for Trivia Night every Monday and Wednesday from 7:00 PM to 9:00 PM! \n\n07:00 PM – 09:00 PM
URL:https://visitmarcoislander.com/event/trivia-night-3/2027-03-22/
LOCATION:Paddy Murphy\, 1089 N Collier Blvd\, Marco island\, FL\, 34145\, United States
CATEGORIES:Restaurants
ATTACH;FMTTYPE=image/jpeg:https://visitmarcoislander.com/wp-content/uploads/2026/02/Trivia.jpg
END:VEVENT
BEGIN:VEVENT
DTSTART;TZID=UTC:20270322T190000
DTEND;TZID=UTC:20270322T210000
DTSTAMP:20260422T200304
CREATED:20260219T222335Z
LAST-MODIFIED:20260220T204106Z
UID:10003476-1805742000-1805749200@visitmarcoislander.com
SUMMARY:Poker Nite at Sand Bar
DESCRIPTION:Join us for FREE No Limit Pub Poker every Monday at the Sandbar on Marco Island! ❤️ Free to play ♣️ Nightly prizes ♦️ Over $500K in prizes annually ♠️ Great drinks\, great vibes\, great competition Grab a seat\, bring your poker face\, and experience The No Limit Experience 🍻🔥
URL:https://visitmarcoislander.com/event/poker-nite/2027-03-22/
LOCATION:Sand Bar\, 826 E. Elkcam Circle\, Marco Island\, FL\, 34145\, United States
CATEGORIES:Restaurants
ATTACH;FMTTYPE=image/avif:https://visitmarcoislander.com/wp-content/uploads/2026/02/Poker-Nite.avif
END:VEVENT
BEGIN:VEVENT
DTSTART;TZID=UTC:20270323T130000
DTEND;TZID=UTC:20270323T170000
DTSTAMP:20260422T200304
CREATED:20260219T224957Z
LAST-MODIFIED:20260220T203709Z
UID:10001470-1805806800-1805821200@visitmarcoislander.com
SUMMARY:Live Music at Snook Inn
DESCRIPTION:Live music daily from 1:30pm-5:30pm and 6pm – 10pm
URL:https://visitmarcoislander.com/event/live-music-snook-inn/2027-03-23/
LOCATION:Snook Inn
CATEGORIES:Restaurants
ATTACH;FMTTYPE=image/webp:https://visitmarcoislander.com/wp-content/uploads/2026/02/Snook-Events-1.webp
END:VEVENT
BEGIN:VEVENT
DTSTART;TZID=UTC:20270323T170000
DTEND;TZID=UTC:20270323T200000
DTSTAMP:20260422T200304
CREATED:20260224T235559Z
LAST-MODIFIED:20260224T235559Z
UID:10011570-1805821200-1805832000@visitmarcoislander.com
SUMMARY:Live Music at Capri Fish House
DESCRIPTION:Sunday – Trace Gause from 12 – 3 and Fred Thornton from 6-9\n\nMonday – Fred Thornton 6-9\n\nTuesday – Michael Nichols 5-8\n\nWednesday – Frank Carroll  6 – 9\n\nThursday – Fred Thornton 6 – 9\n\nFriday – Frank Carroll 6 – 9\n\nSaturday – Trace Gause 6 – 9
URL:https://visitmarcoislander.com/event/live-music-at-capri-fish-house-3/2027-03-23/
LOCATION:Capri Fish House\, 203 Capri Blvd\, Naples\, FL\, 34113\, United States
CATEGORIES:Restaurants
ATTACH;FMTTYPE=image/webp:https://visitmarcoislander.com/wp-content/uploads/2026/02/Capri-Live-Music.webp
END:VEVENT
BEGIN:VEVENT
DTSTART;TZID=UTC:20270323T180000
DTEND;TZID=UTC:20270323T200000
DTSTAMP:20260422T200304
CREATED:20260219T222738Z
LAST-MODIFIED:20260314T220149Z
UID:10012112-1805824800-1805832000@visitmarcoislander.com
SUMMARY:Boot Scootin Bingo at the Sand Bar
DESCRIPTION:Boot Scootin Bingo at the Sand Bar every Tuesday 6pm-8pm
URL:https://visitmarcoislander.com/event/two-step-line-dancing/2027-03-23/
LOCATION:Sand Bar\, 826 E. Elkcam Circle\, Marco Island\, FL\, 34145\, United States
CATEGORIES:Restaurants
ATTACH;FMTTYPE=image/avif:https://visitmarcoislander.com/wp-content/uploads/2026/02/Bingo-at-SandBar.avif
END:VEVENT
BEGIN:VEVENT
DTSTART;TZID=UTC:20270323T180000
DTEND;TZID=UTC:20270323T210000
DTSTAMP:20260422T200304
CREATED:20260219T231101Z
LAST-MODIFIED:20260220T213302Z
UID:10008168-1805824800-1805835600@visitmarcoislander.com
SUMMARY:Duncan Wheeler at La Tavola
DESCRIPTION:Every Tuesday \nCasual\, easy listening sounds of the 70’s \n\n06:00 PM – 09:00 PM`
URL:https://visitmarcoislander.com/event/duncan-wheeler/2027-03-23/
LOCATION:FL
CATEGORIES:Restaurants
ATTACH;FMTTYPE=image/jpeg:https://visitmarcoislander.com/wp-content/uploads/2026/02/Duncan-Wheeler.jpg
END:VEVENT
BEGIN:VEVENT
DTSTART;TZID=America/New_York:20270323T180000
DTEND;TZID=America/New_York:20270323T210000
DTSTAMP:20260422T200304
CREATED:20260411T135443Z
LAST-MODIFIED:20260411T135644Z
UID:10015966-1805824800-1805835600@visitmarcoislander.com
SUMMARY:Live Music at Paddy Murphy's
DESCRIPTION:Live music at Paddy Murphy’s 6pm-9pm. Local bands.
URL:https://visitmarcoislander.com/event/live-music-at-paddy-murphys/2027-03-23/
LOCATION:Paddy Murphy\, 1089 N Collier Blvd\, Marco island\, FL\, 34145\, United States
CATEGORIES:Restaurants
ATTACH;FMTTYPE=image/jpeg:https://visitmarcoislander.com/wp-content/uploads/2026/04/Terry-Mike-scaled.jpeg
END:VEVENT
BEGIN:VEVENT
DTSTART;TZID=America/New_York:20270323T180000
DTEND;TZID=America/New_York:20270323T210000
DTSTAMP:20260422T200304
CREATED:20260411T144731Z
LAST-MODIFIED:20260411T144752Z
UID:10017172-1805824800-1805835600@visitmarcoislander.com
SUMMARY:Live Music at La Mesa Taqueria
DESCRIPTION:Join us for live music three days a week (Tues\, Thurs & Sat)\, featuring talented local artists and a vibrant atmosphere! Enjoy great food\, refreshing drinks\, and the perfect soundtrack to your night. Check out our Instagram page for this month’s music lineup.
URL:https://visitmarcoislander.com/event/live-music-at-la-mesa-taqueria/2027-03-23/
LOCATION:La Mesa Taqueria\, 297 N. Collier Blvd.\, Marco Island\, FL\, 34145\, United States
CATEGORIES:Restaurants
ATTACH;FMTTYPE=image/webp:https://visitmarcoislander.com/wp-content/uploads/2026/04/la-mesa-music.webp
END:VEVENT
BEGIN:VEVENT
DTSTART;TZID=UTC:20270323T180000
DTEND;TZID=UTC:20270323T220000
DTSTAMP:20260422T200304
CREATED:20260219T225357Z
LAST-MODIFIED:20260220T205522Z
UID:10004598-1805824800-1805839200@visitmarcoislander.com
SUMMARY:Live Music at Snook Inn
DESCRIPTION:Live music daily from 1:30pm-5:30pm and 6pm – 10pm
URL:https://visitmarcoislander.com/event/live-music-snook-inn-3/2027-03-23/
LOCATION:Snook Inn
CATEGORIES:Restaurants
ATTACH;FMTTYPE=image/webp:https://visitmarcoislander.com/wp-content/uploads/2026/02/Snook-Inn-Music-Night.webp
END:VEVENT
BEGIN:VEVENT
DTSTART;TZID=UTC:20270324T130000
DTEND;TZID=UTC:20270324T170000
DTSTAMP:20260422T200304
CREATED:20260219T224957Z
LAST-MODIFIED:20260220T203709Z
UID:10001471-1805893200-1805907600@visitmarcoislander.com
SUMMARY:Live Music at Snook Inn
DESCRIPTION:Live music daily from 1:30pm-5:30pm and 6pm – 10pm
URL:https://visitmarcoislander.com/event/live-music-snook-inn/2027-03-24/
LOCATION:Snook Inn
CATEGORIES:Restaurants
ATTACH;FMTTYPE=image/webp:https://visitmarcoislander.com/wp-content/uploads/2026/02/Snook-Events-1.webp
END:VEVENT
BEGIN:VEVENT
DTSTART;TZID=UTC:20270324T180000
DTEND;TZID=UTC:20270324T210000
DTSTAMP:20260422T200304
CREATED:20260224T235025Z
LAST-MODIFIED:20260224T235824Z
UID:10010283-1805911200-1805922000@visitmarcoislander.com
SUMMARY:Live Music at Capri Fish House
DESCRIPTION:Daily live music: \nSunday – Trace Gause from 12 – 3 and Fred Thornton from 6-9\n\nMonday – Fred Thornton 6-9\n\nTuesday – Michael Nichols 5-8\n\nWednesday – Frank Carroll  6 – 9\n\nThursday – Fred Thornton 6 – 9\n\nFriday – Frank Carroll 6 – 9\n\nSaturday – Trace Gause 6 – 9
URL:https://visitmarcoislander.com/event/live-music-at-capri-fish-house/2027-03-24/
LOCATION:Capri Fish House\, 203 Capri Blvd\, Naples\, FL\, 34113\, United States
CATEGORIES:Restaurants
ATTACH;FMTTYPE=image/webp:https://visitmarcoislander.com/wp-content/uploads/2026/02/Capri-Live-Music.webp
END:VEVENT
BEGIN:VEVENT
DTSTART;TZID=UTC:20270324T180000
DTEND;TZID=UTC:20270324T220000
DTSTAMP:20260422T200304
CREATED:20260219T225357Z
LAST-MODIFIED:20260220T205522Z
UID:10004599-1805911200-1805925600@visitmarcoislander.com
SUMMARY:Live Music at Snook Inn
DESCRIPTION:Live music daily from 1:30pm-5:30pm and 6pm – 10pm
URL:https://visitmarcoislander.com/event/live-music-snook-inn-3/2027-03-24/
LOCATION:Snook Inn
CATEGORIES:Restaurants
ATTACH;FMTTYPE=image/webp:https://visitmarcoislander.com/wp-content/uploads/2026/02/Snook-Inn-Music-Night.webp
END:VEVENT
BEGIN:VEVENT
DTSTART;TZID=UTC:20270324T190000
DTEND;TZID=UTC:20270324T210000
DTSTAMP:20260422T200304
CREATED:20260219T215934Z
LAST-MODIFIED:20260314T215345Z
UID:10003012-1805914800-1805922000@visitmarcoislander.com
SUMMARY:Trivia Night at Paddy Murphy's
DESCRIPTION:Mondays and Wednesdays every week \n\nJoin us for Trivia Night every Monday and Wednesday from 7:00 PM to 9:00 PM! \n\n07:00 PM – 09:00 PM
URL:https://visitmarcoislander.com/event/trivia-night-3/2027-03-24/
LOCATION:Paddy Murphy\, 1089 N Collier Blvd\, Marco island\, FL\, 34145\, United States
CATEGORIES:Restaurants
ATTACH;FMTTYPE=image/jpeg:https://visitmarcoislander.com/wp-content/uploads/2026/02/Trivia.jpg
END:VEVENT
BEGIN:VEVENT
DTSTART;TZID=UTC:20270324T200000
DTEND;TZID=UTC:20270324T230000
DTSTAMP:20260422T200304
CREATED:20260219T223010Z
LAST-MODIFIED:20260220T203458Z
UID:10000870-1805918400-1805929200@visitmarcoislander.com
SUMMARY:Karaoke Nite at Sand Bar
DESCRIPTION:Grab the mic\, bring the crew\, and sing your heart out tonight! No judgment\, just good vibes\, cold drinks\, and your favorite songs. Who’s going first? 👀🍻
URL:https://visitmarcoislander.com/event/karaoke-nite/2027-03-24/
LOCATION:Sand Bar\, 826 E. Elkcam Circle\, Marco Island\, FL\, 34145\, United States
CATEGORIES:Restaurants
ATTACH;FMTTYPE=image/avif:https://visitmarcoislander.com/wp-content/uploads/2026/02/Karaoke-Nite.avif
END:VEVENT
BEGIN:VEVENT
DTSTART;TZID=UTC:20270325T130000
DTEND;TZID=UTC:20270325T170000
DTSTAMP:20260422T200304
CREATED:20260219T224957Z
LAST-MODIFIED:20260220T203709Z
UID:10001472-1805979600-1805994000@visitmarcoislander.com
SUMMARY:Live Music at Snook Inn
DESCRIPTION:Live music daily from 1:30pm-5:30pm and 6pm – 10pm
URL:https://visitmarcoislander.com/event/live-music-snook-inn/2027-03-25/
LOCATION:Snook Inn
CATEGORIES:Restaurants
ATTACH;FMTTYPE=image/webp:https://visitmarcoislander.com/wp-content/uploads/2026/02/Snook-Events-1.webp
END:VEVENT
BEGIN:VEVENT
DTSTART;TZID=UTC:20270325T180000
DTEND;TZID=UTC:20270325T210000
DTSTAMP:20260422T200304
CREATED:20260219T233253Z
LAST-MODIFIED:20260220T203150Z
UID:10000202-1805997600-1806008400@visitmarcoislander.com
SUMMARY:Live Music Lauren Sheppard Davide Italian Cafe
DESCRIPTION:Live Music 6:00 – 9:00\n\n\n\nThursday\, Friday & Saturday – Lauren Sheppard
URL:https://visitmarcoislander.com/event/live-music-600-900-thursday-friday-saturday-lauren-sheppard-2/2027-03-25/
LOCATION:Davide Italian Cafe\, 688 Bald Eagle Dr.\, Marco Island\, FL\, 34145\, United States
CATEGORIES:Restaurants
ATTACH;FMTTYPE=image/webp:https://visitmarcoislander.com/wp-content/uploads/2026/02/davide-music.webp
END:VEVENT
BEGIN:VEVENT
DTSTART;TZID=UTC:20270325T180000
DTEND;TZID=UTC:20270325T210000
DTSTAMP:20260422T200304
CREATED:20260224T235025Z
LAST-MODIFIED:20260224T235824Z
UID:10010284-1805997600-1806008400@visitmarcoislander.com
SUMMARY:Live Music at Capri Fish House
DESCRIPTION:Daily live music: \nSunday – Trace Gause from 12 – 3 and Fred Thornton from 6-9\n\nMonday – Fred Thornton 6-9\n\nTuesday – Michael Nichols 5-8\n\nWednesday – Frank Carroll  6 – 9\n\nThursday – Fred Thornton 6 – 9\n\nFriday – Frank Carroll 6 – 9\n\nSaturday – Trace Gause 6 – 9
URL:https://visitmarcoislander.com/event/live-music-at-capri-fish-house/2027-03-25/
LOCATION:Capri Fish House\, 203 Capri Blvd\, Naples\, FL\, 34113\, United States
CATEGORIES:Restaurants
ATTACH;FMTTYPE=image/webp:https://visitmarcoislander.com/wp-content/uploads/2026/02/Capri-Live-Music.webp
END:VEVENT
BEGIN:VEVENT
DTSTART;TZID=America/New_York:20270325T180000
DTEND;TZID=America/New_York:20270325T210000
DTSTAMP:20260422T200304
CREATED:20260411T135443Z
LAST-MODIFIED:20260411T135644Z
UID:10015967-1805997600-1806008400@visitmarcoislander.com
SUMMARY:Live Music at Paddy Murphy's
DESCRIPTION:Live music at Paddy Murphy’s 6pm-9pm. Local bands.
URL:https://visitmarcoislander.com/event/live-music-at-paddy-murphys/2027-03-25/
LOCATION:Paddy Murphy\, 1089 N Collier Blvd\, Marco island\, FL\, 34145\, United States
CATEGORIES:Restaurants
ATTACH;FMTTYPE=image/jpeg:https://visitmarcoislander.com/wp-content/uploads/2026/04/Terry-Mike-scaled.jpeg
END:VEVENT
BEGIN:VEVENT
DTSTART;TZID=America/New_York:20270325T180000
DTEND;TZID=America/New_York:20270325T210000
DTSTAMP:20260422T200304
CREATED:20260411T144731Z
LAST-MODIFIED:20260411T144752Z
UID:10017173-1805997600-1806008400@visitmarcoislander.com
SUMMARY:Live Music at La Mesa Taqueria
DESCRIPTION:Join us for live music three days a week (Tues\, Thurs & Sat)\, featuring talented local artists and a vibrant atmosphere! Enjoy great food\, refreshing drinks\, and the perfect soundtrack to your night. Check out our Instagram page for this month’s music lineup.
URL:https://visitmarcoislander.com/event/live-music-at-la-mesa-taqueria/2027-03-25/
LOCATION:La Mesa Taqueria\, 297 N. Collier Blvd.\, Marco Island\, FL\, 34145\, United States
CATEGORIES:Restaurants
ATTACH;FMTTYPE=image/webp:https://visitmarcoislander.com/wp-content/uploads/2026/04/la-mesa-music.webp
END:VEVENT
BEGIN:VEVENT
DTSTART;TZID=UTC:20270325T180000
DTEND;TZID=UTC:20270325T220000
DTSTAMP:20260422T200304
CREATED:20260219T225357Z
LAST-MODIFIED:20260220T205522Z
UID:10004600-1805997600-1806012000@visitmarcoislander.com
SUMMARY:Live Music at Snook Inn
DESCRIPTION:Live music daily from 1:30pm-5:30pm and 6pm – 10pm
URL:https://visitmarcoislander.com/event/live-music-snook-inn-3/2027-03-25/
LOCATION:Snook Inn
CATEGORIES:Restaurants
ATTACH;FMTTYPE=image/webp:https://visitmarcoislander.com/wp-content/uploads/2026/02/Snook-Inn-Music-Night.webp
END:VEVENT
BEGIN:VEVENT
DTSTART;TZID=UTC:20270325T190000
DTEND;TZID=UTC:20270325T220000
DTSTAMP:20260422T200304
CREATED:20260314T222941Z
LAST-MODIFIED:20260314T222941Z
UID:10013945-1806001200-1806012000@visitmarcoislander.com
SUMMARY:Omar Baker at La Tavola
DESCRIPTION:Every Thursday \n\n07:00 PM – 10:00 PM
URL:https://visitmarcoislander.com/event/omar-baker-at-la-tavola-2/2027-03-25/
LOCATION:La Tavola\, 961 Winterberry Dr\, Marco Island\, FL\, 34145\, United States
CATEGORIES:Restaurants
ATTACH;FMTTYPE=image/jpeg:https://visitmarcoislander.com/wp-content/uploads/2026/02/omar-Baker.jpg
END:VEVENT
BEGIN:VEVENT
DTSTART;TZID=UTC:20270325T200000
DTEND;TZID=UTC:20270325T230000
DTSTAMP:20260422T200304
CREATED:20260219T223514Z
LAST-MODIFIED:20260314T220435Z
UID:10012375-1806004800-1806015600@visitmarcoislander.com
SUMMARY:Elliott West Band at Sand Bar
DESCRIPTION:Performing everything from Classic\, Country\, Alternative and dance rock to easy listening and Soul Rhythm and Blues
URL:https://visitmarcoislander.com/event/elliott-west-band-3/2027-03-25/
LOCATION:Sand Bar\, 826 E. Elkcam Circle\, Marco Island\, FL\, 34145\, United States
CATEGORIES:Restaurants
ATTACH;FMTTYPE=image/avif:https://visitmarcoislander.com/wp-content/uploads/2026/02/elliot-West-Sand.avif
END:VEVENT
BEGIN:VEVENT
DTSTART;TZID=UTC:20270326T103000
DTEND;TZID=UTC:20270327T013000
DTSTAMP:20260422T200304
CREATED:20260314T221435Z
LAST-MODIFIED:20260314T221435Z
UID:10012952-1806057000-1806111000@visitmarcoislander.com
SUMMARY:Dj Jorge at Sand Bar
DESCRIPTION:Dj Jorge at Sand Bar every Friday and Saturday 10:30pm-1:30am
URL:https://visitmarcoislander.com/event/dj-jorge-at-sand-bar/2027-03-26/
LOCATION:Sand Bar\, 826 E. Elkcam Circle\, Marco Island\, FL\, 34145\, United States
CATEGORIES:Restaurants
ATTACH;FMTTYPE=image/avif:https://visitmarcoislander.com/wp-content/uploads/2026/03/Dj-Jorge-at-Sand-Bar.avif
END:VEVENT
BEGIN:VEVENT
DTSTART;TZID=UTC:20270326T130000
DTEND;TZID=UTC:20270326T170000
DTSTAMP:20260422T200304
CREATED:20260219T224957Z
LAST-MODIFIED:20260220T203709Z
UID:10001473-1806066000-1806080400@visitmarcoislander.com
SUMMARY:Live Music at Snook Inn
DESCRIPTION:Live music daily from 1:30pm-5:30pm and 6pm – 10pm
URL:https://visitmarcoislander.com/event/live-music-snook-inn/2027-03-26/
LOCATION:Snook Inn
CATEGORIES:Restaurants
ATTACH;FMTTYPE=image/webp:https://visitmarcoislander.com/wp-content/uploads/2026/02/Snook-Events-1.webp
END:VEVENT
BEGIN:VEVENT
DTSTART;TZID=UTC:20270326T180000
DTEND;TZID=UTC:20270326T210000
DTSTAMP:20260422T200304
CREATED:20260219T233253Z
LAST-MODIFIED:20260220T203150Z
UID:10000203-1806084000-1806094800@visitmarcoislander.com
SUMMARY:Live Music Lauren Sheppard Davide Italian Cafe
DESCRIPTION:Live Music 6:00 – 9:00\n\n\n\nThursday\, Friday & Saturday – Lauren Sheppard
URL:https://visitmarcoislander.com/event/live-music-600-900-thursday-friday-saturday-lauren-sheppard-2/2027-03-26/
LOCATION:Davide Italian Cafe\, 688 Bald Eagle Dr.\, Marco Island\, FL\, 34145\, United States
CATEGORIES:Restaurants
ATTACH;FMTTYPE=image/webp:https://visitmarcoislander.com/wp-content/uploads/2026/02/davide-music.webp
END:VEVENT
BEGIN:VEVENT
DTSTART;TZID=UTC:20270326T180000
DTEND;TZID=UTC:20270326T210000
DTSTAMP:20260422T200304
CREATED:20260224T235025Z
LAST-MODIFIED:20260224T235824Z
UID:10010285-1806084000-1806094800@visitmarcoislander.com
SUMMARY:Live Music at Capri Fish House
DESCRIPTION:Daily live music: \nSunday – Trace Gause from 12 – 3 and Fred Thornton from 6-9\n\nMonday – Fred Thornton 6-9\n\nTuesday – Michael Nichols 5-8\n\nWednesday – Frank Carroll  6 – 9\n\nThursday – Fred Thornton 6 – 9\n\nFriday – Frank Carroll 6 – 9\n\nSaturday – Trace Gause 6 – 9
URL:https://visitmarcoislander.com/event/live-music-at-capri-fish-house/2027-03-26/
LOCATION:Capri Fish House\, 203 Capri Blvd\, Naples\, FL\, 34113\, United States
CATEGORIES:Restaurants
ATTACH;FMTTYPE=image/webp:https://visitmarcoislander.com/wp-content/uploads/2026/02/Capri-Live-Music.webp
END:VEVENT
BEGIN:VEVENT
DTSTART;TZID=America/New_York:20270326T180000
DTEND;TZID=America/New_York:20270326T210000
DTSTAMP:20260422T200304
CREATED:20260411T135443Z
LAST-MODIFIED:20260411T135644Z
UID:10015968-1806084000-1806094800@visitmarcoislander.com
SUMMARY:Live Music at Paddy Murphy's
DESCRIPTION:Live music at Paddy Murphy’s 6pm-9pm. Local bands.
URL:https://visitmarcoislander.com/event/live-music-at-paddy-murphys/2027-03-26/
LOCATION:Paddy Murphy\, 1089 N Collier Blvd\, Marco island\, FL\, 34145\, United States
CATEGORIES:Restaurants
ATTACH;FMTTYPE=image/jpeg:https://visitmarcoislander.com/wp-content/uploads/2026/04/Terry-Mike-scaled.jpeg
END:VEVENT
END:VCALENDAR