BEGIN:VCALENDAR
VERSION:2.0
PRODID:-//The Key to Paradise – Discover Marco Like a Local - ECPv6.15.18//NONSGML v1.0//EN
CALSCALE:GREGORIAN
METHOD:PUBLISH
X-WR-CALNAME:The Key to Paradise – Discover Marco Like a Local
X-ORIGINAL-URL:https://visitmarcoislander.com
X-WR-CALDESC:Events for The Key to Paradise – Discover Marco Like a Local
REFRESH-INTERVAL;VALUE=DURATION:PT1H
X-Robots-Tag:noindex
X-PUBLISHED-TTL:PT1H
BEGIN:VTIMEZONE
TZID:UTC
BEGIN:STANDARD
TZOFFSETFROM:+0000
TZOFFSETTO:+0000
TZNAME:UTC
DTSTART:20260101T000000
END:STANDARD
END:VTIMEZONE
BEGIN:VTIMEZONE
TZID:America/New_York
BEGIN:DAYLIGHT
TZOFFSETFROM:-0500
TZOFFSETTO:-0400
TZNAME:EDT
DTSTART:20260308T070000
END:DAYLIGHT
BEGIN:STANDARD
TZOFFSETFROM:-0400
TZOFFSETTO:-0500
TZNAME:EST
DTSTART:20261101T060000
END:STANDARD
BEGIN:DAYLIGHT
TZOFFSETFROM:-0500
TZOFFSETTO:-0400
TZNAME:EDT
DTSTART:20270314T070000
END:DAYLIGHT
BEGIN:STANDARD
TZOFFSETFROM:-0400
TZOFFSETTO:-0500
TZNAME:EST
DTSTART:20271107T060000
END:STANDARD
BEGIN:DAYLIGHT
TZOFFSETFROM:-0500
TZOFFSETTO:-0400
TZNAME:EDT
DTSTART:20280312T070000
END:DAYLIGHT
BEGIN:STANDARD
TZOFFSETFROM:-0400
TZOFFSETTO:-0500
TZNAME:EST
DTSTART:20281105T060000
END:STANDARD
END:VTIMEZONE
BEGIN:VEVENT
DTSTART;TZID=UTC:20270830T130000
DTEND;TZID=UTC:20270830T170000
DTSTAMP:20260421T134222
CREATED:20260219T224957Z
LAST-MODIFIED:20260220T203709Z
UID:10001630-1819630800-1819645200@visitmarcoislander.com
SUMMARY:Live Music at Snook Inn
DESCRIPTION:Live music daily from 1:30pm-5:30pm and 6pm – 10pm
URL:https://visitmarcoislander.com/event/live-music-snook-inn/2027-08-30/
LOCATION:Snook Inn
CATEGORIES:Restaurants
ATTACH;FMTTYPE=image/webp:https://visitmarcoislander.com/wp-content/uploads/2026/02/Snook-Events-1.webp
END:VEVENT
BEGIN:VEVENT
DTSTART;TZID=UTC:20270830T180000
DTEND;TZID=UTC:20270830T210000
DTSTAMP:20260421T134222
CREATED:20260224T235025Z
LAST-MODIFIED:20260224T235824Z
UID:10010420-1819648800-1819659600@visitmarcoislander.com
SUMMARY:Live Music at Capri Fish House
DESCRIPTION:Daily live music: \nSunday – Trace Gause from 12 – 3 and Fred Thornton from 6-9\n\nMonday – Fred Thornton 6-9\n\nTuesday – Michael Nichols 5-8\n\nWednesday – Frank Carroll  6 – 9\n\nThursday – Fred Thornton 6 – 9\n\nFriday – Frank Carroll 6 – 9\n\nSaturday – Trace Gause 6 – 9
URL:https://visitmarcoislander.com/event/live-music-at-capri-fish-house/2027-08-30/
LOCATION:Capri Fish House\, 203 Capri Blvd\, Naples\, FL\, 34113\, United States
CATEGORIES:Restaurants
ATTACH;FMTTYPE=image/webp:https://visitmarcoislander.com/wp-content/uploads/2026/02/Capri-Live-Music.webp
END:VEVENT
BEGIN:VEVENT
DTSTART;TZID=UTC:20270830T180000
DTEND;TZID=UTC:20270830T220000
DTSTAMP:20260421T134222
CREATED:20260219T225357Z
LAST-MODIFIED:20260220T205522Z
UID:10004758-1819648800-1819663200@visitmarcoislander.com
SUMMARY:Live Music at Snook Inn
DESCRIPTION:Live music daily from 1:30pm-5:30pm and 6pm – 10pm
URL:https://visitmarcoislander.com/event/live-music-snook-inn-3/2027-08-30/
LOCATION:Snook Inn
CATEGORIES:Restaurants
ATTACH;FMTTYPE=image/webp:https://visitmarcoislander.com/wp-content/uploads/2026/02/Snook-Inn-Music-Night.webp
END:VEVENT
BEGIN:VEVENT
DTSTART;TZID=UTC:20270830T190000
DTEND;TZID=UTC:20270830T210000
DTSTAMP:20260421T134222
CREATED:20260219T215934Z
LAST-MODIFIED:20260314T215345Z
UID:10003057-1819652400-1819659600@visitmarcoislander.com
SUMMARY:Trivia Night at Paddy Murphy's
DESCRIPTION:Mondays and Wednesdays every week \n\nJoin us for Trivia Night every Monday and Wednesday from 7:00 PM to 9:00 PM! \n\n07:00 PM – 09:00 PM
URL:https://visitmarcoislander.com/event/trivia-night-3/2027-08-30/
LOCATION:Paddy Murphy\, 1089 N Collier Blvd\, Marco island\, FL\, 34145\, United States
CATEGORIES:Restaurants
ATTACH;FMTTYPE=image/jpeg:https://visitmarcoislander.com/wp-content/uploads/2026/02/Trivia.jpg
END:VEVENT
BEGIN:VEVENT
DTSTART;TZID=UTC:20270830T190000
DTEND;TZID=UTC:20270830T210000
DTSTAMP:20260421T134222
CREATED:20260219T222335Z
LAST-MODIFIED:20260220T204106Z
UID:10003499-1819652400-1819659600@visitmarcoislander.com
SUMMARY:Poker Nite at Sand Bar
DESCRIPTION:Join us for FREE No Limit Pub Poker every Monday at the Sandbar on Marco Island! ❤️ Free to play ♣️ Nightly prizes ♦️ Over $500K in prizes annually ♠️ Great drinks\, great vibes\, great competition Grab a seat\, bring your poker face\, and experience The No Limit Experience 🍻🔥
URL:https://visitmarcoislander.com/event/poker-nite/2027-08-30/
LOCATION:Sand Bar\, 826 E. Elkcam Circle\, Marco Island\, FL\, 34145\, United States
CATEGORIES:Restaurants
ATTACH;FMTTYPE=image/avif:https://visitmarcoislander.com/wp-content/uploads/2026/02/Poker-Nite.avif
END:VEVENT
BEGIN:VEVENT
DTSTART;TZID=UTC:20270831T130000
DTEND;TZID=UTC:20270831T170000
DTSTAMP:20260421T134223
CREATED:20260219T224957Z
LAST-MODIFIED:20260220T203709Z
UID:10001631-1819717200-1819731600@visitmarcoislander.com
SUMMARY:Live Music at Snook Inn
DESCRIPTION:Live music daily from 1:30pm-5:30pm and 6pm – 10pm
URL:https://visitmarcoislander.com/event/live-music-snook-inn/2027-08-31/
LOCATION:Snook Inn
CATEGORIES:Restaurants
ATTACH;FMTTYPE=image/webp:https://visitmarcoislander.com/wp-content/uploads/2026/02/Snook-Events-1.webp
END:VEVENT
BEGIN:VEVENT
DTSTART;TZID=UTC:20270831T170000
DTEND;TZID=UTC:20270831T200000
DTSTAMP:20260421T134223
CREATED:20260224T235559Z
LAST-MODIFIED:20260224T235559Z
UID:10011593-1819731600-1819742400@visitmarcoislander.com
SUMMARY:Live Music at Capri Fish House
DESCRIPTION:Sunday – Trace Gause from 12 – 3 and Fred Thornton from 6-9\n\nMonday – Fred Thornton 6-9\n\nTuesday – Michael Nichols 5-8\n\nWednesday – Frank Carroll  6 – 9\n\nThursday – Fred Thornton 6 – 9\n\nFriday – Frank Carroll 6 – 9\n\nSaturday – Trace Gause 6 – 9
URL:https://visitmarcoislander.com/event/live-music-at-capri-fish-house-3/2027-08-31/
LOCATION:Capri Fish House\, 203 Capri Blvd\, Naples\, FL\, 34113\, United States
CATEGORIES:Restaurants
ATTACH;FMTTYPE=image/webp:https://visitmarcoislander.com/wp-content/uploads/2026/02/Capri-Live-Music.webp
END:VEVENT
BEGIN:VEVENT
DTSTART;TZID=UTC:20270831T180000
DTEND;TZID=UTC:20270831T200000
DTSTAMP:20260421T134223
CREATED:20260219T222738Z
LAST-MODIFIED:20260314T220149Z
UID:10012135-1819735200-1819742400@visitmarcoislander.com
SUMMARY:Boot Scootin Bingo at the Sand Bar
DESCRIPTION:Boot Scootin Bingo at the Sand Bar every Tuesday 6pm-8pm
URL:https://visitmarcoislander.com/event/two-step-line-dancing/2027-08-31/
LOCATION:Sand Bar\, 826 E. Elkcam Circle\, Marco Island\, FL\, 34145\, United States
CATEGORIES:Restaurants
ATTACH;FMTTYPE=image/avif:https://visitmarcoislander.com/wp-content/uploads/2026/02/Bingo-at-SandBar.avif
END:VEVENT
BEGIN:VEVENT
DTSTART;TZID=UTC:20270831T180000
DTEND;TZID=UTC:20270831T210000
DTSTAMP:20260421T134223
CREATED:20260219T231101Z
LAST-MODIFIED:20260220T213302Z
UID:10008191-1819735200-1819746000@visitmarcoislander.com
SUMMARY:Duncan Wheeler at La Tavola
DESCRIPTION:Every Tuesday \nCasual\, easy listening sounds of the 70’s \n\n06:00 PM – 09:00 PM`
URL:https://visitmarcoislander.com/event/duncan-wheeler/2027-08-31/
LOCATION:FL
CATEGORIES:Restaurants
ATTACH;FMTTYPE=image/jpeg:https://visitmarcoislander.com/wp-content/uploads/2026/02/Duncan-Wheeler.jpg
END:VEVENT
BEGIN:VEVENT
DTSTART;TZID=America/New_York:20270831T180000
DTEND;TZID=America/New_York:20270831T210000
DTSTAMP:20260421T134223
CREATED:20260411T135443Z
LAST-MODIFIED:20260411T135644Z
UID:10016081-1819735200-1819746000@visitmarcoislander.com
SUMMARY:Live Music at Paddy Murphy's
DESCRIPTION:Live music at Paddy Murphy’s 6pm-9pm. Local bands.
URL:https://visitmarcoislander.com/event/live-music-at-paddy-murphys/2027-08-31/
LOCATION:Paddy Murphy\, 1089 N Collier Blvd\, Marco island\, FL\, 34145\, United States
CATEGORIES:Restaurants
ATTACH;FMTTYPE=image/jpeg:https://visitmarcoislander.com/wp-content/uploads/2026/04/Terry-Mike-scaled.jpeg
END:VEVENT
BEGIN:VEVENT
DTSTART;TZID=America/New_York:20270831T180000
DTEND;TZID=America/New_York:20270831T210000
DTSTAMP:20260421T134223
CREATED:20260411T144731Z
LAST-MODIFIED:20260411T144752Z
UID:10017241-1819735200-1819746000@visitmarcoislander.com
SUMMARY:Live Music at La Mesa Taqueria
DESCRIPTION:Join us for live music three days a week (Tues\, Thurs & Sat)\, featuring talented local artists and a vibrant atmosphere! Enjoy great food\, refreshing drinks\, and the perfect soundtrack to your night. Check out our Instagram page for this month’s music lineup.
URL:https://visitmarcoislander.com/event/live-music-at-la-mesa-taqueria/2027-08-31/
LOCATION:La Mesa Taqueria\, 297 N. Collier Blvd.\, Marco Island\, FL\, 34145\, United States
CATEGORIES:Restaurants
ATTACH;FMTTYPE=image/webp:https://visitmarcoislander.com/wp-content/uploads/2026/04/la-mesa-music.webp
END:VEVENT
BEGIN:VEVENT
DTSTART;TZID=UTC:20270831T180000
DTEND;TZID=UTC:20270831T220000
DTSTAMP:20260421T134223
CREATED:20260219T225357Z
LAST-MODIFIED:20260220T205522Z
UID:10004759-1819735200-1819749600@visitmarcoislander.com
SUMMARY:Live Music at Snook Inn
DESCRIPTION:Live music daily from 1:30pm-5:30pm and 6pm – 10pm
URL:https://visitmarcoislander.com/event/live-music-snook-inn-3/2027-08-31/
LOCATION:Snook Inn
CATEGORIES:Restaurants
ATTACH;FMTTYPE=image/webp:https://visitmarcoislander.com/wp-content/uploads/2026/02/Snook-Inn-Music-Night.webp
END:VEVENT
BEGIN:VEVENT
DTSTART;TZID=UTC:20270901T130000
DTEND;TZID=UTC:20270901T170000
DTSTAMP:20260421T134223
CREATED:20260219T224957Z
LAST-MODIFIED:20260220T203709Z
UID:10001632-1819803600-1819818000@visitmarcoislander.com
SUMMARY:Live Music at Snook Inn
DESCRIPTION:Live music daily from 1:30pm-5:30pm and 6pm – 10pm
URL:https://visitmarcoislander.com/event/live-music-snook-inn/2027-09-01/
LOCATION:Snook Inn
CATEGORIES:Restaurants
ATTACH;FMTTYPE=image/webp:https://visitmarcoislander.com/wp-content/uploads/2026/02/Snook-Events-1.webp
END:VEVENT
BEGIN:VEVENT
DTSTART;TZID=UTC:20270901T180000
DTEND;TZID=UTC:20270901T210000
DTSTAMP:20260421T134223
CREATED:20260224T235025Z
LAST-MODIFIED:20260224T235824Z
UID:10010421-1819821600-1819832400@visitmarcoislander.com
SUMMARY:Live Music at Capri Fish House
DESCRIPTION:Daily live music: \nSunday – Trace Gause from 12 – 3 and Fred Thornton from 6-9\n\nMonday – Fred Thornton 6-9\n\nTuesday – Michael Nichols 5-8\n\nWednesday – Frank Carroll  6 – 9\n\nThursday – Fred Thornton 6 – 9\n\nFriday – Frank Carroll 6 – 9\n\nSaturday – Trace Gause 6 – 9
URL:https://visitmarcoislander.com/event/live-music-at-capri-fish-house/2027-09-01/
LOCATION:Capri Fish House\, 203 Capri Blvd\, Naples\, FL\, 34113\, United States
CATEGORIES:Restaurants
ATTACH;FMTTYPE=image/webp:https://visitmarcoislander.com/wp-content/uploads/2026/02/Capri-Live-Music.webp
END:VEVENT
BEGIN:VEVENT
DTSTART;TZID=UTC:20270901T180000
DTEND;TZID=UTC:20270901T220000
DTSTAMP:20260421T134223
CREATED:20260219T225357Z
LAST-MODIFIED:20260220T205522Z
UID:10004760-1819821600-1819836000@visitmarcoislander.com
SUMMARY:Live Music at Snook Inn
DESCRIPTION:Live music daily from 1:30pm-5:30pm and 6pm – 10pm
URL:https://visitmarcoislander.com/event/live-music-snook-inn-3/2027-09-01/
LOCATION:Snook Inn
CATEGORIES:Restaurants
ATTACH;FMTTYPE=image/webp:https://visitmarcoislander.com/wp-content/uploads/2026/02/Snook-Inn-Music-Night.webp
END:VEVENT
BEGIN:VEVENT
DTSTART;TZID=UTC:20270901T190000
DTEND;TZID=UTC:20270901T210000
DTSTAMP:20260421T134223
CREATED:20260219T215934Z
LAST-MODIFIED:20260314T215345Z
UID:10003058-1819825200-1819832400@visitmarcoislander.com
SUMMARY:Trivia Night at Paddy Murphy's
DESCRIPTION:Mondays and Wednesdays every week \n\nJoin us for Trivia Night every Monday and Wednesday from 7:00 PM to 9:00 PM! \n\n07:00 PM – 09:00 PM
URL:https://visitmarcoislander.com/event/trivia-night-3/2027-09-01/
LOCATION:Paddy Murphy\, 1089 N Collier Blvd\, Marco island\, FL\, 34145\, United States
CATEGORIES:Restaurants
ATTACH;FMTTYPE=image/jpeg:https://visitmarcoislander.com/wp-content/uploads/2026/02/Trivia.jpg
END:VEVENT
BEGIN:VEVENT
DTSTART;TZID=UTC:20270901T200000
DTEND;TZID=UTC:20270901T230000
DTSTAMP:20260421T134223
CREATED:20260219T223010Z
LAST-MODIFIED:20260220T203458Z
UID:10000893-1819828800-1819839600@visitmarcoislander.com
SUMMARY:Karaoke Nite at Sand Bar
DESCRIPTION:Grab the mic\, bring the crew\, and sing your heart out tonight! No judgment\, just good vibes\, cold drinks\, and your favorite songs. Who’s going first? 👀🍻
URL:https://visitmarcoislander.com/event/karaoke-nite/2027-09-01/
LOCATION:Sand Bar\, 826 E. Elkcam Circle\, Marco Island\, FL\, 34145\, United States
CATEGORIES:Restaurants
ATTACH;FMTTYPE=image/avif:https://visitmarcoislander.com/wp-content/uploads/2026/02/Karaoke-Nite.avif
END:VEVENT
BEGIN:VEVENT
DTSTART;TZID=UTC:20270902T130000
DTEND;TZID=UTC:20270902T170000
DTSTAMP:20260421T134223
CREATED:20260219T224957Z
LAST-MODIFIED:20260220T203709Z
UID:10001633-1819890000-1819904400@visitmarcoislander.com
SUMMARY:Live Music at Snook Inn
DESCRIPTION:Live music daily from 1:30pm-5:30pm and 6pm – 10pm
URL:https://visitmarcoislander.com/event/live-music-snook-inn/2027-09-02/
LOCATION:Snook Inn
CATEGORIES:Restaurants
ATTACH;FMTTYPE=image/webp:https://visitmarcoislander.com/wp-content/uploads/2026/02/Snook-Events-1.webp
END:VEVENT
BEGIN:VEVENT
DTSTART;TZID=UTC:20270902T180000
DTEND;TZID=UTC:20270902T210000
DTSTAMP:20260421T134223
CREATED:20260219T233253Z
LAST-MODIFIED:20260220T203150Z
UID:10000271-1819908000-1819918800@visitmarcoislander.com
SUMMARY:Live Music Lauren Sheppard Davide Italian Cafe
DESCRIPTION:Live Music 6:00 – 9:00\n\n\n\nThursday\, Friday & Saturday – Lauren Sheppard
URL:https://visitmarcoislander.com/event/live-music-600-900-thursday-friday-saturday-lauren-sheppard-2/2027-09-02/
LOCATION:Davide Italian Cafe\, 688 Bald Eagle Dr.\, Marco Island\, FL\, 34145\, United States
CATEGORIES:Restaurants
ATTACH;FMTTYPE=image/webp:https://visitmarcoislander.com/wp-content/uploads/2026/02/davide-music.webp
END:VEVENT
BEGIN:VEVENT
DTSTART;TZID=UTC:20270902T180000
DTEND;TZID=UTC:20270902T210000
DTSTAMP:20260421T134223
CREATED:20260224T235025Z
LAST-MODIFIED:20260224T235824Z
UID:10010422-1819908000-1819918800@visitmarcoislander.com
SUMMARY:Live Music at Capri Fish House
DESCRIPTION:Daily live music: \nSunday – Trace Gause from 12 – 3 and Fred Thornton from 6-9\n\nMonday – Fred Thornton 6-9\n\nTuesday – Michael Nichols 5-8\n\nWednesday – Frank Carroll  6 – 9\n\nThursday – Fred Thornton 6 – 9\n\nFriday – Frank Carroll 6 – 9\n\nSaturday – Trace Gause 6 – 9
URL:https://visitmarcoislander.com/event/live-music-at-capri-fish-house/2027-09-02/
LOCATION:Capri Fish House\, 203 Capri Blvd\, Naples\, FL\, 34113\, United States
CATEGORIES:Restaurants
ATTACH;FMTTYPE=image/webp:https://visitmarcoislander.com/wp-content/uploads/2026/02/Capri-Live-Music.webp
END:VEVENT
BEGIN:VEVENT
DTSTART;TZID=America/New_York:20270902T180000
DTEND;TZID=America/New_York:20270902T210000
DTSTAMP:20260421T134223
CREATED:20260411T135443Z
LAST-MODIFIED:20260411T135644Z
UID:10016082-1819908000-1819918800@visitmarcoislander.com
SUMMARY:Live Music at Paddy Murphy's
DESCRIPTION:Live music at Paddy Murphy’s 6pm-9pm. Local bands.
URL:https://visitmarcoislander.com/event/live-music-at-paddy-murphys/2027-09-02/
LOCATION:Paddy Murphy\, 1089 N Collier Blvd\, Marco island\, FL\, 34145\, United States
CATEGORIES:Restaurants
ATTACH;FMTTYPE=image/jpeg:https://visitmarcoislander.com/wp-content/uploads/2026/04/Terry-Mike-scaled.jpeg
END:VEVENT
BEGIN:VEVENT
DTSTART;TZID=America/New_York:20270902T180000
DTEND;TZID=America/New_York:20270902T210000
DTSTAMP:20260421T134223
CREATED:20260411T144731Z
LAST-MODIFIED:20260411T144752Z
UID:10017242-1819908000-1819918800@visitmarcoislander.com
SUMMARY:Live Music at La Mesa Taqueria
DESCRIPTION:Join us for live music three days a week (Tues\, Thurs & Sat)\, featuring talented local artists and a vibrant atmosphere! Enjoy great food\, refreshing drinks\, and the perfect soundtrack to your night. Check out our Instagram page for this month’s music lineup.
URL:https://visitmarcoislander.com/event/live-music-at-la-mesa-taqueria/2027-09-02/
LOCATION:La Mesa Taqueria\, 297 N. Collier Blvd.\, Marco Island\, FL\, 34145\, United States
CATEGORIES:Restaurants
ATTACH;FMTTYPE=image/webp:https://visitmarcoislander.com/wp-content/uploads/2026/04/la-mesa-music.webp
END:VEVENT
BEGIN:VEVENT
DTSTART;TZID=UTC:20270902T180000
DTEND;TZID=UTC:20270902T220000
DTSTAMP:20260421T134223
CREATED:20260219T225357Z
LAST-MODIFIED:20260220T205522Z
UID:10004761-1819908000-1819922400@visitmarcoislander.com
SUMMARY:Live Music at Snook Inn
DESCRIPTION:Live music daily from 1:30pm-5:30pm and 6pm – 10pm
URL:https://visitmarcoislander.com/event/live-music-snook-inn-3/2027-09-02/
LOCATION:Snook Inn
CATEGORIES:Restaurants
ATTACH;FMTTYPE=image/webp:https://visitmarcoislander.com/wp-content/uploads/2026/02/Snook-Inn-Music-Night.webp
END:VEVENT
BEGIN:VEVENT
DTSTART;TZID=UTC:20270902T190000
DTEND;TZID=UTC:20270902T220000
DTSTAMP:20260421T134223
CREATED:20260314T222941Z
LAST-MODIFIED:20260314T222941Z
UID:10013968-1819911600-1819922400@visitmarcoislander.com
SUMMARY:Omar Baker at La Tavola
DESCRIPTION:Every Thursday \n\n07:00 PM – 10:00 PM
URL:https://visitmarcoislander.com/event/omar-baker-at-la-tavola-2/2027-09-02/
LOCATION:La Tavola\, 961 Winterberry Dr\, Marco Island\, FL\, 34145\, United States
CATEGORIES:Restaurants
ATTACH;FMTTYPE=image/jpeg:https://visitmarcoislander.com/wp-content/uploads/2026/02/omar-Baker.jpg
END:VEVENT
BEGIN:VEVENT
DTSTART;TZID=UTC:20270902T200000
DTEND;TZID=UTC:20270902T230000
DTSTAMP:20260421T134223
CREATED:20260219T223514Z
LAST-MODIFIED:20260314T220435Z
UID:10012398-1819915200-1819926000@visitmarcoislander.com
SUMMARY:Elliott West Band at Sand Bar
DESCRIPTION:Performing everything from Classic\, Country\, Alternative and dance rock to easy listening and Soul Rhythm and Blues
URL:https://visitmarcoislander.com/event/elliott-west-band-3/2027-09-02/
LOCATION:Sand Bar\, 826 E. Elkcam Circle\, Marco Island\, FL\, 34145\, United States
CATEGORIES:Restaurants
ATTACH;FMTTYPE=image/avif:https://visitmarcoislander.com/wp-content/uploads/2026/02/elliot-West-Sand.avif
END:VEVENT
BEGIN:VEVENT
DTSTART;TZID=UTC:20270903T103000
DTEND;TZID=UTC:20270904T013000
DTSTAMP:20260421T134223
CREATED:20260314T221435Z
LAST-MODIFIED:20260314T221435Z
UID:10012998-1819967400-1820021400@visitmarcoislander.com
SUMMARY:Dj Jorge at Sand Bar
DESCRIPTION:Dj Jorge at Sand Bar every Friday and Saturday 10:30pm-1:30am
URL:https://visitmarcoislander.com/event/dj-jorge-at-sand-bar/2027-09-03/
LOCATION:Sand Bar\, 826 E. Elkcam Circle\, Marco Island\, FL\, 34145\, United States
CATEGORIES:Restaurants
ATTACH;FMTTYPE=image/avif:https://visitmarcoislander.com/wp-content/uploads/2026/03/Dj-Jorge-at-Sand-Bar.avif
END:VEVENT
BEGIN:VEVENT
DTSTART;TZID=UTC:20270903T130000
DTEND;TZID=UTC:20270903T170000
DTSTAMP:20260421T134223
CREATED:20260219T224957Z
LAST-MODIFIED:20260220T203709Z
UID:10001634-1819976400-1819990800@visitmarcoislander.com
SUMMARY:Live Music at Snook Inn
DESCRIPTION:Live music daily from 1:30pm-5:30pm and 6pm – 10pm
URL:https://visitmarcoislander.com/event/live-music-snook-inn/2027-09-03/
LOCATION:Snook Inn
CATEGORIES:Restaurants
ATTACH;FMTTYPE=image/webp:https://visitmarcoislander.com/wp-content/uploads/2026/02/Snook-Events-1.webp
END:VEVENT
BEGIN:VEVENT
DTSTART;TZID=UTC:20270903T180000
DTEND;TZID=UTC:20270903T210000
DTSTAMP:20260421T134223
CREATED:20260219T233253Z
LAST-MODIFIED:20260220T203150Z
UID:10000272-1819994400-1820005200@visitmarcoislander.com
SUMMARY:Live Music Lauren Sheppard Davide Italian Cafe
DESCRIPTION:Live Music 6:00 – 9:00\n\n\n\nThursday\, Friday & Saturday – Lauren Sheppard
URL:https://visitmarcoislander.com/event/live-music-600-900-thursday-friday-saturday-lauren-sheppard-2/2027-09-03/
LOCATION:Davide Italian Cafe\, 688 Bald Eagle Dr.\, Marco Island\, FL\, 34145\, United States
CATEGORIES:Restaurants
ATTACH;FMTTYPE=image/webp:https://visitmarcoislander.com/wp-content/uploads/2026/02/davide-music.webp
END:VEVENT
BEGIN:VEVENT
DTSTART;TZID=UTC:20270903T180000
DTEND;TZID=UTC:20270903T210000
DTSTAMP:20260421T134223
CREATED:20260224T235025Z
LAST-MODIFIED:20260224T235824Z
UID:10010423-1819994400-1820005200@visitmarcoislander.com
SUMMARY:Live Music at Capri Fish House
DESCRIPTION:Daily live music: \nSunday – Trace Gause from 12 – 3 and Fred Thornton from 6-9\n\nMonday – Fred Thornton 6-9\n\nTuesday – Michael Nichols 5-8\n\nWednesday – Frank Carroll  6 – 9\n\nThursday – Fred Thornton 6 – 9\n\nFriday – Frank Carroll 6 – 9\n\nSaturday – Trace Gause 6 – 9
URL:https://visitmarcoislander.com/event/live-music-at-capri-fish-house/2027-09-03/
LOCATION:Capri Fish House\, 203 Capri Blvd\, Naples\, FL\, 34113\, United States
CATEGORIES:Restaurants
ATTACH;FMTTYPE=image/webp:https://visitmarcoislander.com/wp-content/uploads/2026/02/Capri-Live-Music.webp
END:VEVENT
BEGIN:VEVENT
DTSTART;TZID=America/New_York:20270903T180000
DTEND;TZID=America/New_York:20270903T210000
DTSTAMP:20260421T134223
CREATED:20260411T135443Z
LAST-MODIFIED:20260411T135644Z
UID:10016083-1819994400-1820005200@visitmarcoislander.com
SUMMARY:Live Music at Paddy Murphy's
DESCRIPTION:Live music at Paddy Murphy’s 6pm-9pm. Local bands.
URL:https://visitmarcoislander.com/event/live-music-at-paddy-murphys/2027-09-03/
LOCATION:Paddy Murphy\, 1089 N Collier Blvd\, Marco island\, FL\, 34145\, United States
CATEGORIES:Restaurants
ATTACH;FMTTYPE=image/jpeg:https://visitmarcoislander.com/wp-content/uploads/2026/04/Terry-Mike-scaled.jpeg
END:VEVENT
END:VCALENDAR