BEGIN:VCALENDAR
VERSION:2.0
PRODID:-//The Key to Paradise – Discover Marco Like a Local - ECPv6.15.18//NONSGML v1.0//EN
CALSCALE:GREGORIAN
METHOD:PUBLISH
X-WR-CALNAME:The Key to Paradise – Discover Marco Like a Local
X-ORIGINAL-URL:https://visitmarcoislander.com
X-WR-CALDESC:Events for The Key to Paradise – Discover Marco Like a Local
REFRESH-INTERVAL;VALUE=DURATION:PT1H
X-Robots-Tag:noindex
X-PUBLISHED-TTL:PT1H
BEGIN:VTIMEZONE
TZID:UTC
BEGIN:STANDARD
TZOFFSETFROM:+0000
TZOFFSETTO:+0000
TZNAME:UTC
DTSTART:20250101T000000
END:STANDARD
END:VTIMEZONE
BEGIN:VTIMEZONE
TZID:America/New_York
BEGIN:DAYLIGHT
TZOFFSETFROM:-0500
TZOFFSETTO:-0400
TZNAME:EDT
DTSTART:20250309T070000
END:DAYLIGHT
BEGIN:STANDARD
TZOFFSETFROM:-0400
TZOFFSETTO:-0500
TZNAME:EST
DTSTART:20251102T060000
END:STANDARD
BEGIN:DAYLIGHT
TZOFFSETFROM:-0500
TZOFFSETTO:-0400
TZNAME:EDT
DTSTART:20260308T070000
END:DAYLIGHT
BEGIN:STANDARD
TZOFFSETFROM:-0400
TZOFFSETTO:-0500
TZNAME:EST
DTSTART:20261101T060000
END:STANDARD
BEGIN:DAYLIGHT
TZOFFSETFROM:-0500
TZOFFSETTO:-0400
TZNAME:EDT
DTSTART:20270314T070000
END:DAYLIGHT
BEGIN:STANDARD
TZOFFSETFROM:-0400
TZOFFSETTO:-0500
TZNAME:EST
DTSTART:20271107T060000
END:STANDARD
END:VTIMEZONE
BEGIN:VEVENT
DTSTART;TZID=UTC:20260825T130000
DTEND;TZID=UTC:20260825T170000
DTSTAMP:20260419T163611
CREATED:20260219T224957Z
LAST-MODIFIED:20260220T203709Z
UID:10001260-1787662800-1787677200@visitmarcoislander.com
SUMMARY:Live Music at Snook Inn
DESCRIPTION:Live music daily from 1:30pm-5:30pm and 6pm – 10pm
URL:https://visitmarcoislander.com/event/live-music-snook-inn/2026-08-25/
LOCATION:Snook Inn
CATEGORIES:Restaurants
ATTACH;FMTTYPE=image/webp:https://visitmarcoislander.com/wp-content/uploads/2026/02/Snook-Events-1.webp
END:VEVENT
BEGIN:VEVENT
DTSTART;TZID=UTC:20260825T170000
DTEND;TZID=UTC:20260825T200000
DTSTAMP:20260419T163611
CREATED:20260224T235559Z
LAST-MODIFIED:20260224T235559Z
UID:10011540-1787677200-1787688000@visitmarcoislander.com
SUMMARY:Live Music at Capri Fish House
DESCRIPTION:Sunday – Trace Gause from 12 – 3 and Fred Thornton from 6-9\n\nMonday – Fred Thornton 6-9\n\nTuesday – Michael Nichols 5-8\n\nWednesday – Frank Carroll  6 – 9\n\nThursday – Fred Thornton 6 – 9\n\nFriday – Frank Carroll 6 – 9\n\nSaturday – Trace Gause 6 – 9
URL:https://visitmarcoislander.com/event/live-music-at-capri-fish-house-3/2026-08-25/
LOCATION:Capri Fish House\, 203 Capri Blvd\, Naples\, FL\, 34113\, United States
CATEGORIES:Restaurants
ATTACH;FMTTYPE=image/webp:https://visitmarcoislander.com/wp-content/uploads/2026/02/Capri-Live-Music.webp
END:VEVENT
BEGIN:VEVENT
DTSTART;TZID=UTC:20260825T180000
DTEND;TZID=UTC:20260825T200000
DTSTAMP:20260419T163611
CREATED:20260219T222738Z
LAST-MODIFIED:20260314T220149Z
UID:10012082-1787680800-1787688000@visitmarcoislander.com
SUMMARY:Boot Scootin Bingo at the Sand Bar
DESCRIPTION:Boot Scootin Bingo at the Sand Bar every Tuesday 6pm-8pm
URL:https://visitmarcoislander.com/event/two-step-line-dancing/2026-08-25/
LOCATION:Sand Bar\, 826 E. Elkcam Circle\, Marco Island\, FL\, 34145\, United States
CATEGORIES:Restaurants
ATTACH;FMTTYPE=image/avif:https://visitmarcoislander.com/wp-content/uploads/2026/02/Bingo-at-SandBar.avif
END:VEVENT
BEGIN:VEVENT
DTSTART;TZID=UTC:20260825T180000
DTEND;TZID=UTC:20260825T210000
DTSTAMP:20260419T163611
CREATED:20260219T231101Z
LAST-MODIFIED:20260220T213302Z
UID:10008138-1787680800-1787691600@visitmarcoislander.com
SUMMARY:Duncan Wheeler at La Tavola
DESCRIPTION:Every Tuesday \nCasual\, easy listening sounds of the 70’s \n\n06:00 PM – 09:00 PM`
URL:https://visitmarcoislander.com/event/duncan-wheeler/2026-08-25/
LOCATION:FL
CATEGORIES:Restaurants
ATTACH;FMTTYPE=image/jpeg:https://visitmarcoislander.com/wp-content/uploads/2026/02/Duncan-Wheeler.jpg
END:VEVENT
BEGIN:VEVENT
DTSTART;TZID=America/New_York:20260825T180000
DTEND;TZID=America/New_York:20260825T210000
DTSTAMP:20260419T163611
CREATED:20260411T135443Z
LAST-MODIFIED:20260411T135644Z
UID:10015816-1787680800-1787691600@visitmarcoislander.com
SUMMARY:Live Music at Paddy Murphy's
DESCRIPTION:Live music at Paddy Murphy’s 6pm-9pm. Local bands.
URL:https://visitmarcoislander.com/event/live-music-at-paddy-murphys/2026-08-25/
LOCATION:Paddy Murphy\, 1089 N Collier Blvd\, Marco island\, FL\, 34145\, United States
CATEGORIES:Restaurants
ATTACH;FMTTYPE=image/jpeg:https://visitmarcoislander.com/wp-content/uploads/2026/04/Terry-Mike-scaled.jpeg
END:VEVENT
BEGIN:VEVENT
DTSTART;TZID=America/New_York:20260825T180000
DTEND;TZID=America/New_York:20260825T210000
DTSTAMP:20260419T163611
CREATED:20260411T144731Z
LAST-MODIFIED:20260411T144752Z
UID:10017082-1787680800-1787691600@visitmarcoislander.com
SUMMARY:Live Music at La Mesa Taqueria
DESCRIPTION:Join us for live music three days a week (Tues\, Thurs & Sat)\, featuring talented local artists and a vibrant atmosphere! Enjoy great food\, refreshing drinks\, and the perfect soundtrack to your night. Check out our Instagram page for this month’s music lineup.
URL:https://visitmarcoislander.com/event/live-music-at-la-mesa-taqueria/2026-08-25/
LOCATION:La Mesa Taqueria\, 297 N. Collier Blvd.\, Marco Island\, FL\, 34145\, United States
CATEGORIES:Restaurants
ATTACH;FMTTYPE=image/webp:https://visitmarcoislander.com/wp-content/uploads/2026/04/la-mesa-music.webp
END:VEVENT
BEGIN:VEVENT
DTSTART;TZID=UTC:20260825T180000
DTEND;TZID=UTC:20260825T220000
DTSTAMP:20260419T163611
CREATED:20260219T225357Z
LAST-MODIFIED:20260220T205522Z
UID:10004388-1787680800-1787695200@visitmarcoislander.com
SUMMARY:Live Music at Snook Inn
DESCRIPTION:Live music daily from 1:30pm-5:30pm and 6pm – 10pm
URL:https://visitmarcoislander.com/event/live-music-snook-inn-3/2026-08-25/
LOCATION:Snook Inn
CATEGORIES:Restaurants
ATTACH;FMTTYPE=image/webp:https://visitmarcoislander.com/wp-content/uploads/2026/02/Snook-Inn-Music-Night.webp
END:VEVENT
END:VCALENDAR